BEGIN:VCALENDAR
VERSION:2.0
PRODID:-//Julien&#039;s House - ECPv6.15.20//NONSGML v1.0//EN
CALSCALE:GREGORIAN
METHOD:PUBLISH
X-WR-CALNAME:Julien&#039;s House
X-ORIGINAL-URL:https://julienshouse.ca
X-WR-CALDESC:Events for Julien&#039;s House
REFRESH-INTERVAL;VALUE=DURATION:PT1H
X-Robots-Tag:noindex
X-PUBLISHED-TTL:PT1H
BEGIN:VTIMEZONE
TZID:America/Toronto
BEGIN:DAYLIGHT
TZOFFSETFROM:-0500
TZOFFSETTO:-0400
TZNAME:EDT
DTSTART:20250309T070000
END:DAYLIGHT
BEGIN:STANDARD
TZOFFSETFROM:-0400
TZOFFSETTO:-0500
TZNAME:EST
DTSTART:20251102T060000
END:STANDARD
BEGIN:DAYLIGHT
TZOFFSETFROM:-0500
TZOFFSETTO:-0400
TZNAME:EDT
DTSTART:20260308T070000
END:DAYLIGHT
BEGIN:STANDARD
TZOFFSETFROM:-0400
TZOFFSETTO:-0500
TZNAME:EST
DTSTART:20261101T060000
END:STANDARD
BEGIN:DAYLIGHT
TZOFFSETFROM:-0500
TZOFFSETTO:-0400
TZNAME:EDT
DTSTART:20270314T070000
END:DAYLIGHT
BEGIN:STANDARD
TZOFFSETFROM:-0400
TZOFFSETTO:-0500
TZNAME:EST
DTSTART:20271107T060000
END:STANDARD
BEGIN:DAYLIGHT
TZOFFSETFROM:-0500
TZOFFSETTO:-0400
TZNAME:EDT
DTSTART:20280312T070000
END:DAYLIGHT
BEGIN:STANDARD
TZOFFSETFROM:-0400
TZOFFSETTO:-0500
TZNAME:EST
DTSTART:20281105T060000
END:STANDARD
BEGIN:DAYLIGHT
TZOFFSETFROM:-0500
TZOFFSETTO:-0400
TZNAME:EDT
DTSTART:20290311T070000
END:DAYLIGHT
BEGIN:STANDARD
TZOFFSETFROM:-0400
TZOFFSETTO:-0500
TZNAME:EST
DTSTART:20291104T060000
END:STANDARD
END:VTIMEZONE
BEGIN:VEVENT
DTSTART;TZID=America/Toronto:20260422T180000
DTEND;TZID=America/Toronto:20260422T193000
DTSTAMP:20260422T061323
CREATED:20241031T153548Z
LAST-MODIFIED:20251110T202507Z
UID:10003856-1776880800-1776886200@julienshouse.ca
SUMMARY:Virtual Support Group
DESCRIPTION:Our Support Group offers a safe\, compassionate space for those grieving the loss of a beloved person in their lives. Each session is led by trained volunteers who have personally experienced loss\, bringing empathy\, understanding\, and a unique perspective to the group. \n  \nThis is an inclusive support group for all types of person loss. The link to the meeting is shared with each guest upon registration.
URL:https://julienshouse.ca/event/virtual-support-group/2026-04-22/
CATEGORIES:SUPPORT GROUPS,Virtual
END:VEVENT
BEGIN:VEVENT
DTSTART;TZID=America/Toronto:20260527T180000
DTEND;TZID=America/Toronto:20260527T193000
DTSTAMP:20260422T061323
CREATED:20241031T153548Z
LAST-MODIFIED:20251110T202507Z
UID:10003857-1779904800-1779910200@julienshouse.ca
SUMMARY:Virtual Support Group
DESCRIPTION:Our Support Group offers a safe\, compassionate space for those grieving the loss of a beloved person in their lives. Each session is led by trained volunteers who have personally experienced loss\, bringing empathy\, understanding\, and a unique perspective to the group. \n  \nThis is an inclusive support group for all types of person loss. The link to the meeting is shared with each guest upon registration.
URL:https://julienshouse.ca/event/virtual-support-group/2026-05-27/
CATEGORIES:SUPPORT GROUPS,Virtual
END:VEVENT
BEGIN:VEVENT
DTSTART;TZID=America/Toronto:20260624T180000
DTEND;TZID=America/Toronto:20260624T193000
DTSTAMP:20260422T061323
CREATED:20241031T153548Z
LAST-MODIFIED:20251110T202507Z
UID:10003858-1782324000-1782329400@julienshouse.ca
SUMMARY:Virtual Support Group
DESCRIPTION:Our Support Group offers a safe\, compassionate space for those grieving the loss of a beloved person in their lives. Each session is led by trained volunteers who have personally experienced loss\, bringing empathy\, understanding\, and a unique perspective to the group. \n  \nThis is an inclusive support group for all types of person loss. The link to the meeting is shared with each guest upon registration.
URL:https://julienshouse.ca/event/virtual-support-group/2026-06-24/
CATEGORIES:SUPPORT GROUPS,Virtual
END:VEVENT
BEGIN:VEVENT
DTSTART;TZID=America/Toronto:20260722T180000
DTEND;TZID=America/Toronto:20260722T193000
DTSTAMP:20260422T061323
CREATED:20241031T153548Z
LAST-MODIFIED:20251110T202507Z
UID:10003859-1784743200-1784748600@julienshouse.ca
SUMMARY:Virtual Support Group
DESCRIPTION:Our Support Group offers a safe\, compassionate space for those grieving the loss of a beloved person in their lives. Each session is led by trained volunteers who have personally experienced loss\, bringing empathy\, understanding\, and a unique perspective to the group. \n  \nThis is an inclusive support group for all types of person loss. The link to the meeting is shared with each guest upon registration.
URL:https://julienshouse.ca/event/virtual-support-group/2026-07-22/
CATEGORIES:SUPPORT GROUPS,Virtual
END:VEVENT
BEGIN:VEVENT
DTSTART;TZID=America/Toronto:20260826T180000
DTEND;TZID=America/Toronto:20260826T193000
DTSTAMP:20260422T061323
CREATED:20241031T153548Z
LAST-MODIFIED:20251110T202507Z
UID:10003860-1787767200-1787772600@julienshouse.ca
SUMMARY:Virtual Support Group
DESCRIPTION:Our Support Group offers a safe\, compassionate space for those grieving the loss of a beloved person in their lives. Each session is led by trained volunteers who have personally experienced loss\, bringing empathy\, understanding\, and a unique perspective to the group. \n  \nThis is an inclusive support group for all types of person loss. The link to the meeting is shared with each guest upon registration.
URL:https://julienshouse.ca/event/virtual-support-group/2026-08-26/
CATEGORIES:SUPPORT GROUPS,Virtual
END:VEVENT
BEGIN:VEVENT
DTSTART;TZID=America/Toronto:20260923T180000
DTEND;TZID=America/Toronto:20260923T193000
DTSTAMP:20260422T061323
CREATED:20241031T153548Z
LAST-MODIFIED:20251110T202507Z
UID:10003861-1790186400-1790191800@julienshouse.ca
SUMMARY:Virtual Support Group
DESCRIPTION:Our Support Group offers a safe\, compassionate space for those grieving the loss of a beloved person in their lives. Each session is led by trained volunteers who have personally experienced loss\, bringing empathy\, understanding\, and a unique perspective to the group. \n  \nThis is an inclusive support group for all types of person loss. The link to the meeting is shared with each guest upon registration.
URL:https://julienshouse.ca/event/virtual-support-group/2026-09-23/
CATEGORIES:SUPPORT GROUPS,Virtual
END:VEVENT
BEGIN:VEVENT
DTSTART;TZID=America/Toronto:20261028T180000
DTEND;TZID=America/Toronto:20261028T193000
DTSTAMP:20260422T061323
CREATED:20241031T153548Z
LAST-MODIFIED:20251110T202507Z
UID:10003862-1793210400-1793215800@julienshouse.ca
SUMMARY:Virtual Support Group
DESCRIPTION:Our Support Group offers a safe\, compassionate space for those grieving the loss of a beloved person in their lives. Each session is led by trained volunteers who have personally experienced loss\, bringing empathy\, understanding\, and a unique perspective to the group. \n  \nThis is an inclusive support group for all types of person loss. The link to the meeting is shared with each guest upon registration.
URL:https://julienshouse.ca/event/virtual-support-group/2026-10-28/
CATEGORIES:SUPPORT GROUPS,Virtual
END:VEVENT
BEGIN:VEVENT
DTSTART;TZID=America/Toronto:20261125T180000
DTEND;TZID=America/Toronto:20261125T193000
DTSTAMP:20260422T061323
CREATED:20241031T153548Z
LAST-MODIFIED:20251110T202507Z
UID:10003863-1795629600-1795635000@julienshouse.ca
SUMMARY:Virtual Support Group
DESCRIPTION:Our Support Group offers a safe\, compassionate space for those grieving the loss of a beloved person in their lives. Each session is led by trained volunteers who have personally experienced loss\, bringing empathy\, understanding\, and a unique perspective to the group. \n  \nThis is an inclusive support group for all types of person loss. The link to the meeting is shared with each guest upon registration.
URL:https://julienshouse.ca/event/virtual-support-group/2026-11-25/
CATEGORIES:SUPPORT GROUPS,Virtual
END:VEVENT
BEGIN:VEVENT
DTSTART;TZID=America/Toronto:20261223T180000
DTEND;TZID=America/Toronto:20261223T193000
DTSTAMP:20260422T061323
CREATED:20241031T153548Z
LAST-MODIFIED:20251110T202507Z
UID:10003864-1798048800-1798054200@julienshouse.ca
SUMMARY:Virtual Support Group
DESCRIPTION:Our Support Group offers a safe\, compassionate space for those grieving the loss of a beloved person in their lives. Each session is led by trained volunteers who have personally experienced loss\, bringing empathy\, understanding\, and a unique perspective to the group. \n  \nThis is an inclusive support group for all types of person loss. The link to the meeting is shared with each guest upon registration.
URL:https://julienshouse.ca/event/virtual-support-group/2026-12-23/
CATEGORIES:SUPPORT GROUPS,Virtual
END:VEVENT
BEGIN:VEVENT
DTSTART;TZID=America/Toronto:20270127T180000
DTEND;TZID=America/Toronto:20270127T193000
DTSTAMP:20260422T061323
CREATED:20241031T153548Z
LAST-MODIFIED:20251110T202507Z
UID:10003865-1801072800-1801078200@julienshouse.ca
SUMMARY:Virtual Support Group
DESCRIPTION:Our Support Group offers a safe\, compassionate space for those grieving the loss of a beloved person in their lives. Each session is led by trained volunteers who have personally experienced loss\, bringing empathy\, understanding\, and a unique perspective to the group. \n  \nThis is an inclusive support group for all types of person loss. The link to the meeting is shared with each guest upon registration.
URL:https://julienshouse.ca/event/virtual-support-group/2027-01-27/
CATEGORIES:SUPPORT GROUPS,Virtual
END:VEVENT
BEGIN:VEVENT
DTSTART;TZID=America/Toronto:20270224T180000
DTEND;TZID=America/Toronto:20270224T193000
DTSTAMP:20260422T061323
CREATED:20241031T153548Z
LAST-MODIFIED:20251110T202507Z
UID:10003866-1803492000-1803497400@julienshouse.ca
SUMMARY:Virtual Support Group
DESCRIPTION:Our Support Group offers a safe\, compassionate space for those grieving the loss of a beloved person in their lives. Each session is led by trained volunteers who have personally experienced loss\, bringing empathy\, understanding\, and a unique perspective to the group. \n  \nThis is an inclusive support group for all types of person loss. The link to the meeting is shared with each guest upon registration.
URL:https://julienshouse.ca/event/virtual-support-group/2027-02-24/
CATEGORIES:SUPPORT GROUPS,Virtual
END:VEVENT
BEGIN:VEVENT
DTSTART;TZID=America/Toronto:20270324T180000
DTEND;TZID=America/Toronto:20270324T193000
DTSTAMP:20260422T061323
CREATED:20241031T153548Z
LAST-MODIFIED:20251110T202507Z
UID:10003867-1805911200-1805916600@julienshouse.ca
SUMMARY:Virtual Support Group
DESCRIPTION:Our Support Group offers a safe\, compassionate space for those grieving the loss of a beloved person in their lives. Each session is led by trained volunteers who have personally experienced loss\, bringing empathy\, understanding\, and a unique perspective to the group. \n  \nThis is an inclusive support group for all types of person loss. The link to the meeting is shared with each guest upon registration.
URL:https://julienshouse.ca/event/virtual-support-group/2027-03-24/
CATEGORIES:SUPPORT GROUPS,Virtual
END:VEVENT
BEGIN:VEVENT
DTSTART;TZID=America/Toronto:20270428T180000
DTEND;TZID=America/Toronto:20270428T193000
DTSTAMP:20260422T061323
CREATED:20241031T153548Z
LAST-MODIFIED:20251110T202507Z
UID:10003868-1808935200-1808940600@julienshouse.ca
SUMMARY:Virtual Support Group
DESCRIPTION:Our Support Group offers a safe\, compassionate space for those grieving the loss of a beloved person in their lives. Each session is led by trained volunteers who have personally experienced loss\, bringing empathy\, understanding\, and a unique perspective to the group. \n  \nThis is an inclusive support group for all types of person loss. The link to the meeting is shared with each guest upon registration.
URL:https://julienshouse.ca/event/virtual-support-group/2027-04-28/
CATEGORIES:SUPPORT GROUPS,Virtual
END:VEVENT
BEGIN:VEVENT
DTSTART;TZID=America/Toronto:20270526T180000
DTEND;TZID=America/Toronto:20270526T193000
DTSTAMP:20260422T061323
CREATED:20241031T153548Z
LAST-MODIFIED:20251110T202507Z
UID:10003869-1811354400-1811359800@julienshouse.ca
SUMMARY:Virtual Support Group
DESCRIPTION:Our Support Group offers a safe\, compassionate space for those grieving the loss of a beloved person in their lives. Each session is led by trained volunteers who have personally experienced loss\, bringing empathy\, understanding\, and a unique perspective to the group. \n  \nThis is an inclusive support group for all types of person loss. The link to the meeting is shared with each guest upon registration.
URL:https://julienshouse.ca/event/virtual-support-group/2027-05-26/
CATEGORIES:SUPPORT GROUPS,Virtual
END:VEVENT
BEGIN:VEVENT
DTSTART;TZID=America/Toronto:20270623T180000
DTEND;TZID=America/Toronto:20270623T193000
DTSTAMP:20260422T061323
CREATED:20241031T153548Z
LAST-MODIFIED:20251110T202507Z
UID:10003870-1813773600-1813779000@julienshouse.ca
SUMMARY:Virtual Support Group
DESCRIPTION:Our Support Group offers a safe\, compassionate space for those grieving the loss of a beloved person in their lives. Each session is led by trained volunteers who have personally experienced loss\, bringing empathy\, understanding\, and a unique perspective to the group. \n  \nThis is an inclusive support group for all types of person loss. The link to the meeting is shared with each guest upon registration.
URL:https://julienshouse.ca/event/virtual-support-group/2027-06-23/
CATEGORIES:SUPPORT GROUPS,Virtual
END:VEVENT
BEGIN:VEVENT
DTSTART;TZID=America/Toronto:20270728T180000
DTEND;TZID=America/Toronto:20270728T193000
DTSTAMP:20260422T061323
CREATED:20241031T153548Z
LAST-MODIFIED:20251110T202507Z
UID:10003871-1816797600-1816803000@julienshouse.ca
SUMMARY:Virtual Support Group
DESCRIPTION:Our Support Group offers a safe\, compassionate space for those grieving the loss of a beloved person in their lives. Each session is led by trained volunteers who have personally experienced loss\, bringing empathy\, understanding\, and a unique perspective to the group. \n  \nThis is an inclusive support group for all types of person loss. The link to the meeting is shared with each guest upon registration.
URL:https://julienshouse.ca/event/virtual-support-group/2027-07-28/
CATEGORIES:SUPPORT GROUPS,Virtual
END:VEVENT
BEGIN:VEVENT
DTSTART;TZID=America/Toronto:20270825T180000
DTEND;TZID=America/Toronto:20270825T193000
DTSTAMP:20260422T061323
CREATED:20241031T153548Z
LAST-MODIFIED:20251110T202507Z
UID:10003872-1819216800-1819222200@julienshouse.ca
SUMMARY:Virtual Support Group
DESCRIPTION:Our Support Group offers a safe\, compassionate space for those grieving the loss of a beloved person in their lives. Each session is led by trained volunteers who have personally experienced loss\, bringing empathy\, understanding\, and a unique perspective to the group. \n  \nThis is an inclusive support group for all types of person loss. The link to the meeting is shared with each guest upon registration.
URL:https://julienshouse.ca/event/virtual-support-group/2027-08-25/
CATEGORIES:SUPPORT GROUPS,Virtual
END:VEVENT
BEGIN:VEVENT
DTSTART;TZID=America/Toronto:20270922T180000
DTEND;TZID=America/Toronto:20270922T193000
DTSTAMP:20260422T061323
CREATED:20241031T153548Z
LAST-MODIFIED:20251110T202507Z
UID:10003873-1821636000-1821641400@julienshouse.ca
SUMMARY:Virtual Support Group
DESCRIPTION:Our Support Group offers a safe\, compassionate space for those grieving the loss of a beloved person in their lives. Each session is led by trained volunteers who have personally experienced loss\, bringing empathy\, understanding\, and a unique perspective to the group. \n  \nThis is an inclusive support group for all types of person loss. The link to the meeting is shared with each guest upon registration.
URL:https://julienshouse.ca/event/virtual-support-group/2027-09-22/
CATEGORIES:SUPPORT GROUPS,Virtual
END:VEVENT
BEGIN:VEVENT
DTSTART;TZID=America/Toronto:20271027T180000
DTEND;TZID=America/Toronto:20271027T193000
DTSTAMP:20260422T061323
CREATED:20241031T153548Z
LAST-MODIFIED:20251110T202507Z
UID:10003874-1824660000-1824665400@julienshouse.ca
SUMMARY:Virtual Support Group
DESCRIPTION:Our Support Group offers a safe\, compassionate space for those grieving the loss of a beloved person in their lives. Each session is led by trained volunteers who have personally experienced loss\, bringing empathy\, understanding\, and a unique perspective to the group. \n  \nThis is an inclusive support group for all types of person loss. The link to the meeting is shared with each guest upon registration.
URL:https://julienshouse.ca/event/virtual-support-group/2027-10-27/
CATEGORIES:SUPPORT GROUPS,Virtual
END:VEVENT
BEGIN:VEVENT
DTSTART;TZID=America/Toronto:20271124T180000
DTEND;TZID=America/Toronto:20271124T193000
DTSTAMP:20260422T061323
CREATED:20241031T153548Z
LAST-MODIFIED:20251110T202507Z
UID:10003875-1827079200-1827084600@julienshouse.ca
SUMMARY:Virtual Support Group
DESCRIPTION:Our Support Group offers a safe\, compassionate space for those grieving the loss of a beloved person in their lives. Each session is led by trained volunteers who have personally experienced loss\, bringing empathy\, understanding\, and a unique perspective to the group. \n  \nThis is an inclusive support group for all types of person loss. The link to the meeting is shared with each guest upon registration.
URL:https://julienshouse.ca/event/virtual-support-group/2027-11-24/
CATEGORIES:SUPPORT GROUPS,Virtual
END:VEVENT
BEGIN:VEVENT
DTSTART;TZID=America/Toronto:20271222T180000
DTEND;TZID=America/Toronto:20271222T193000
DTSTAMP:20260422T061323
CREATED:20241031T153548Z
LAST-MODIFIED:20251110T202507Z
UID:10003876-1829498400-1829503800@julienshouse.ca
SUMMARY:Virtual Support Group
DESCRIPTION:Our Support Group offers a safe\, compassionate space for those grieving the loss of a beloved person in their lives. Each session is led by trained volunteers who have personally experienced loss\, bringing empathy\, understanding\, and a unique perspective to the group. \n  \nThis is an inclusive support group for all types of person loss. The link to the meeting is shared with each guest upon registration.
URL:https://julienshouse.ca/event/virtual-support-group/2027-12-22/
CATEGORIES:SUPPORT GROUPS,Virtual
END:VEVENT
BEGIN:VEVENT
DTSTART;TZID=America/Toronto:20280126T180000
DTEND;TZID=America/Toronto:20280126T193000
DTSTAMP:20260422T061323
CREATED:20241031T153548Z
LAST-MODIFIED:20251110T202507Z
UID:10003877-1832522400-1832527800@julienshouse.ca
SUMMARY:Virtual Support Group
DESCRIPTION:Our Support Group offers a safe\, compassionate space for those grieving the loss of a beloved person in their lives. Each session is led by trained volunteers who have personally experienced loss\, bringing empathy\, understanding\, and a unique perspective to the group. \n  \nThis is an inclusive support group for all types of person loss. The link to the meeting is shared with each guest upon registration.
URL:https://julienshouse.ca/event/virtual-support-group/2028-01-26/
CATEGORIES:SUPPORT GROUPS,Virtual
END:VEVENT
BEGIN:VEVENT
DTSTART;TZID=America/Toronto:20280223T180000
DTEND;TZID=America/Toronto:20280223T193000
DTSTAMP:20260422T061323
CREATED:20241031T153548Z
LAST-MODIFIED:20251110T202507Z
UID:10003878-1834941600-1834947000@julienshouse.ca
SUMMARY:Virtual Support Group
DESCRIPTION:Our Support Group offers a safe\, compassionate space for those grieving the loss of a beloved person in their lives. Each session is led by trained volunteers who have personally experienced loss\, bringing empathy\, understanding\, and a unique perspective to the group. \n  \nThis is an inclusive support group for all types of person loss. The link to the meeting is shared with each guest upon registration.
URL:https://julienshouse.ca/event/virtual-support-group/2028-02-23/
CATEGORIES:SUPPORT GROUPS,Virtual
END:VEVENT
BEGIN:VEVENT
DTSTART;TZID=America/Toronto:20280322T180000
DTEND;TZID=America/Toronto:20280322T193000
DTSTAMP:20260422T061323
CREATED:20241031T153548Z
LAST-MODIFIED:20251110T202507Z
UID:10003879-1837360800-1837366200@julienshouse.ca
SUMMARY:Virtual Support Group
DESCRIPTION:Our Support Group offers a safe\, compassionate space for those grieving the loss of a beloved person in their lives. Each session is led by trained volunteers who have personally experienced loss\, bringing empathy\, understanding\, and a unique perspective to the group. \n  \nThis is an inclusive support group for all types of person loss. The link to the meeting is shared with each guest upon registration.
URL:https://julienshouse.ca/event/virtual-support-group/2028-03-22/
CATEGORIES:SUPPORT GROUPS,Virtual
END:VEVENT
BEGIN:VEVENT
DTSTART;TZID=America/Toronto:20280426T180000
DTEND;TZID=America/Toronto:20280426T193000
DTSTAMP:20260422T061323
CREATED:20241031T153548Z
LAST-MODIFIED:20251110T202507Z
UID:10003880-1840384800-1840390200@julienshouse.ca
SUMMARY:Virtual Support Group
DESCRIPTION:Our Support Group offers a safe\, compassionate space for those grieving the loss of a beloved person in their lives. Each session is led by trained volunteers who have personally experienced loss\, bringing empathy\, understanding\, and a unique perspective to the group. \n  \nThis is an inclusive support group for all types of person loss. The link to the meeting is shared with each guest upon registration.
URL:https://julienshouse.ca/event/virtual-support-group/2028-04-26/
CATEGORIES:SUPPORT GROUPS,Virtual
END:VEVENT
BEGIN:VEVENT
DTSTART;TZID=America/Toronto:20280524T180000
DTEND;TZID=America/Toronto:20280524T193000
DTSTAMP:20260422T061323
CREATED:20241031T153548Z
LAST-MODIFIED:20251110T202507Z
UID:10003881-1842804000-1842809400@julienshouse.ca
SUMMARY:Virtual Support Group
DESCRIPTION:Our Support Group offers a safe\, compassionate space for those grieving the loss of a beloved person in their lives. Each session is led by trained volunteers who have personally experienced loss\, bringing empathy\, understanding\, and a unique perspective to the group. \n  \nThis is an inclusive support group for all types of person loss. The link to the meeting is shared with each guest upon registration.
URL:https://julienshouse.ca/event/virtual-support-group/2028-05-24/
CATEGORIES:SUPPORT GROUPS,Virtual
END:VEVENT
BEGIN:VEVENT
DTSTART;TZID=America/Toronto:20280628T180000
DTEND;TZID=America/Toronto:20280628T193000
DTSTAMP:20260422T061323
CREATED:20241031T153548Z
LAST-MODIFIED:20251110T202507Z
UID:10003882-1845828000-1845833400@julienshouse.ca
SUMMARY:Virtual Support Group
DESCRIPTION:Our Support Group offers a safe\, compassionate space for those grieving the loss of a beloved person in their lives. Each session is led by trained volunteers who have personally experienced loss\, bringing empathy\, understanding\, and a unique perspective to the group. \n  \nThis is an inclusive support group for all types of person loss. The link to the meeting is shared with each guest upon registration.
URL:https://julienshouse.ca/event/virtual-support-group/2028-06-28/
CATEGORIES:SUPPORT GROUPS,Virtual
END:VEVENT
BEGIN:VEVENT
DTSTART;TZID=America/Toronto:20280726T180000
DTEND;TZID=America/Toronto:20280726T193000
DTSTAMP:20260422T061323
CREATED:20241031T153548Z
LAST-MODIFIED:20251110T202507Z
UID:10003883-1848247200-1848252600@julienshouse.ca
SUMMARY:Virtual Support Group
DESCRIPTION:Our Support Group offers a safe\, compassionate space for those grieving the loss of a beloved person in their lives. Each session is led by trained volunteers who have personally experienced loss\, bringing empathy\, understanding\, and a unique perspective to the group. \n  \nThis is an inclusive support group for all types of person loss. The link to the meeting is shared with each guest upon registration.
URL:https://julienshouse.ca/event/virtual-support-group/2028-07-26/
CATEGORIES:SUPPORT GROUPS,Virtual
END:VEVENT
BEGIN:VEVENT
DTSTART;TZID=America/Toronto:20280823T180000
DTEND;TZID=America/Toronto:20280823T193000
DTSTAMP:20260422T061323
CREATED:20241031T153548Z
LAST-MODIFIED:20251110T202507Z
UID:10003884-1850666400-1850671800@julienshouse.ca
SUMMARY:Virtual Support Group
DESCRIPTION:Our Support Group offers a safe\, compassionate space for those grieving the loss of a beloved person in their lives. Each session is led by trained volunteers who have personally experienced loss\, bringing empathy\, understanding\, and a unique perspective to the group. \n  \nThis is an inclusive support group for all types of person loss. The link to the meeting is shared with each guest upon registration.
URL:https://julienshouse.ca/event/virtual-support-group/2028-08-23/
CATEGORIES:SUPPORT GROUPS,Virtual
END:VEVENT
BEGIN:VEVENT
DTSTART;TZID=America/Toronto:20280927T180000
DTEND;TZID=America/Toronto:20280927T193000
DTSTAMP:20260422T061323
CREATED:20241031T153548Z
LAST-MODIFIED:20251110T202507Z
UID:10003885-1853690400-1853695800@julienshouse.ca
SUMMARY:Virtual Support Group
DESCRIPTION:Our Support Group offers a safe\, compassionate space for those grieving the loss of a beloved person in their lives. Each session is led by trained volunteers who have personally experienced loss\, bringing empathy\, understanding\, and a unique perspective to the group. \n  \nThis is an inclusive support group for all types of person loss. The link to the meeting is shared with each guest upon registration.
URL:https://julienshouse.ca/event/virtual-support-group/2028-09-27/
CATEGORIES:SUPPORT GROUPS,Virtual
END:VEVENT
END:VCALENDAR