BEGIN:VCALENDAR
VERSION:2.0
PRODID:-//Julien&#039;s House - ECPv6.15.20//NONSGML v1.0//EN
CALSCALE:GREGORIAN
METHOD:PUBLISH
X-WR-CALNAME:Julien&#039;s House
X-ORIGINAL-URL:https://julienshouse.ca
X-WR-CALDESC:Events for Julien&#039;s House
REFRESH-INTERVAL;VALUE=DURATION:PT1H
X-Robots-Tag:noindex
X-PUBLISHED-TTL:PT1H
BEGIN:VTIMEZONE
TZID:America/Toronto
BEGIN:DAYLIGHT
TZOFFSETFROM:-0500
TZOFFSETTO:-0400
TZNAME:EDT
DTSTART:20250309T070000
END:DAYLIGHT
BEGIN:STANDARD
TZOFFSETFROM:-0400
TZOFFSETTO:-0500
TZNAME:EST
DTSTART:20251102T060000
END:STANDARD
BEGIN:DAYLIGHT
TZOFFSETFROM:-0500
TZOFFSETTO:-0400
TZNAME:EDT
DTSTART:20260308T070000
END:DAYLIGHT
BEGIN:STANDARD
TZOFFSETFROM:-0400
TZOFFSETTO:-0500
TZNAME:EST
DTSTART:20261101T060000
END:STANDARD
BEGIN:DAYLIGHT
TZOFFSETFROM:-0500
TZOFFSETTO:-0400
TZNAME:EDT
DTSTART:20270314T070000
END:DAYLIGHT
BEGIN:STANDARD
TZOFFSETFROM:-0400
TZOFFSETTO:-0500
TZNAME:EST
DTSTART:20271107T060000
END:STANDARD
BEGIN:DAYLIGHT
TZOFFSETFROM:-0500
TZOFFSETTO:-0400
TZNAME:EDT
DTSTART:20280312T070000
END:DAYLIGHT
BEGIN:STANDARD
TZOFFSETFROM:-0400
TZOFFSETTO:-0500
TZNAME:EST
DTSTART:20281105T060000
END:STANDARD
BEGIN:DAYLIGHT
TZOFFSETFROM:-0500
TZOFFSETTO:-0400
TZNAME:EDT
DTSTART:20290311T070000
END:DAYLIGHT
BEGIN:STANDARD
TZOFFSETFROM:-0400
TZOFFSETTO:-0500
TZNAME:EST
DTSTART:20291104T060000
END:STANDARD
END:VTIMEZONE
BEGIN:VEVENT
DTSTART;TZID=America/Toronto:20260521T183000
DTEND;TZID=America/Toronto:20260521T200000
DTSTAMP:20260420T090827
CREATED:20250613T145450Z
LAST-MODIFIED:20250613T195545Z
UID:10004503-1779388200-1779393600@julienshouse.ca
SUMMARY:Sibling Loss
DESCRIPTION:Our Sibling Loss Support Group offers a safe\, compassionate space for those grieving the loss of a sibling. Sessions are led by trained volunteers who have personally experienced sibling loss\, bringing empathy\, understanding\, and a unique perspective to the group.
URL:https://julienshouse.ca/event/sibling-loss-2/2026-05-21/
CATEGORIES:Sibling Loss,SUPPORT GROUPS
END:VEVENT
BEGIN:VEVENT
DTSTART;TZID=America/Toronto:20260618T183000
DTEND;TZID=America/Toronto:20260618T200000
DTSTAMP:20260420T090827
CREATED:20250613T145450Z
LAST-MODIFIED:20250613T195545Z
UID:10004504-1781807400-1781812800@julienshouse.ca
SUMMARY:Sibling Loss
DESCRIPTION:Our Sibling Loss Support Group offers a safe\, compassionate space for those grieving the loss of a sibling. Sessions are led by trained volunteers who have personally experienced sibling loss\, bringing empathy\, understanding\, and a unique perspective to the group.
URL:https://julienshouse.ca/event/sibling-loss-2/2026-06-18/
CATEGORIES:Sibling Loss,SUPPORT GROUPS
END:VEVENT
BEGIN:VEVENT
DTSTART;TZID=America/Toronto:20260716T183000
DTEND;TZID=America/Toronto:20260716T200000
DTSTAMP:20260420T090827
CREATED:20250613T145450Z
LAST-MODIFIED:20250613T195545Z
UID:10004505-1784226600-1784232000@julienshouse.ca
SUMMARY:Sibling Loss
DESCRIPTION:Our Sibling Loss Support Group offers a safe\, compassionate space for those grieving the loss of a sibling. Sessions are led by trained volunteers who have personally experienced sibling loss\, bringing empathy\, understanding\, and a unique perspective to the group.
URL:https://julienshouse.ca/event/sibling-loss-2/2026-07-16/
CATEGORIES:Sibling Loss,SUPPORT GROUPS
END:VEVENT
BEGIN:VEVENT
DTSTART;TZID=America/Toronto:20260820T183000
DTEND;TZID=America/Toronto:20260820T200000
DTSTAMP:20260420T090827
CREATED:20250613T145450Z
LAST-MODIFIED:20250613T195545Z
UID:10004506-1787250600-1787256000@julienshouse.ca
SUMMARY:Sibling Loss
DESCRIPTION:Our Sibling Loss Support Group offers a safe\, compassionate space for those grieving the loss of a sibling. Sessions are led by trained volunteers who have personally experienced sibling loss\, bringing empathy\, understanding\, and a unique perspective to the group.
URL:https://julienshouse.ca/event/sibling-loss-2/2026-08-20/
CATEGORIES:Sibling Loss,SUPPORT GROUPS
END:VEVENT
BEGIN:VEVENT
DTSTART;TZID=America/Toronto:20260917T183000
DTEND;TZID=America/Toronto:20260917T200000
DTSTAMP:20260420T090827
CREATED:20250613T145450Z
LAST-MODIFIED:20250613T195545Z
UID:10000238-1789669800-1789675200@julienshouse.ca
SUMMARY:Sibling Loss
DESCRIPTION:Our Sibling Loss Support Group offers a safe\, compassionate space for those grieving the loss of a sibling. Sessions are led by trained volunteers who have personally experienced sibling loss\, bringing empathy\, understanding\, and a unique perspective to the group.
URL:https://julienshouse.ca/event/sibling-loss-2/2026-09-17/
CATEGORIES:Sibling Loss,SUPPORT GROUPS
END:VEVENT
BEGIN:VEVENT
DTSTART;TZID=America/Toronto:20261015T183000
DTEND;TZID=America/Toronto:20261015T200000
DTSTAMP:20260420T090827
CREATED:20250613T145450Z
LAST-MODIFIED:20250613T195545Z
UID:10004507-1792089000-1792094400@julienshouse.ca
SUMMARY:Sibling Loss
DESCRIPTION:Our Sibling Loss Support Group offers a safe\, compassionate space for those grieving the loss of a sibling. Sessions are led by trained volunteers who have personally experienced sibling loss\, bringing empathy\, understanding\, and a unique perspective to the group.
URL:https://julienshouse.ca/event/sibling-loss-2/2026-10-15/
CATEGORIES:Sibling Loss,SUPPORT GROUPS
END:VEVENT
BEGIN:VEVENT
DTSTART;TZID=America/Toronto:20261119T183000
DTEND;TZID=America/Toronto:20261119T200000
DTSTAMP:20260420T090827
CREATED:20250613T145450Z
LAST-MODIFIED:20250613T195545Z
UID:10004508-1795113000-1795118400@julienshouse.ca
SUMMARY:Sibling Loss
DESCRIPTION:Our Sibling Loss Support Group offers a safe\, compassionate space for those grieving the loss of a sibling. Sessions are led by trained volunteers who have personally experienced sibling loss\, bringing empathy\, understanding\, and a unique perspective to the group.
URL:https://julienshouse.ca/event/sibling-loss-2/2026-11-19/
CATEGORIES:Sibling Loss,SUPPORT GROUPS
END:VEVENT
BEGIN:VEVENT
DTSTART;TZID=America/Toronto:20261217T183000
DTEND;TZID=America/Toronto:20261217T200000
DTSTAMP:20260420T090827
CREATED:20250613T145450Z
LAST-MODIFIED:20250613T195545Z
UID:10000245-1797532200-1797537600@julienshouse.ca
SUMMARY:Sibling Loss
DESCRIPTION:Our Sibling Loss Support Group offers a safe\, compassionate space for those grieving the loss of a sibling. Sessions are led by trained volunteers who have personally experienced sibling loss\, bringing empathy\, understanding\, and a unique perspective to the group.
URL:https://julienshouse.ca/event/sibling-loss-2/2026-12-17/
CATEGORIES:Sibling Loss,SUPPORT GROUPS
END:VEVENT
BEGIN:VEVENT
DTSTART;TZID=America/Toronto:20270121T183000
DTEND;TZID=America/Toronto:20270121T200000
DTSTAMP:20260420T090827
CREATED:20250613T145450Z
LAST-MODIFIED:20250613T195545Z
UID:10004509-1800556200-1800561600@julienshouse.ca
SUMMARY:Sibling Loss
DESCRIPTION:Our Sibling Loss Support Group offers a safe\, compassionate space for those grieving the loss of a sibling. Sessions are led by trained volunteers who have personally experienced sibling loss\, bringing empathy\, understanding\, and a unique perspective to the group.
URL:https://julienshouse.ca/event/sibling-loss-2/2027-01-21/
CATEGORIES:Sibling Loss,SUPPORT GROUPS
END:VEVENT
BEGIN:VEVENT
DTSTART;TZID=America/Toronto:20270218T183000
DTEND;TZID=America/Toronto:20270218T200000
DTSTAMP:20260420T090827
CREATED:20250613T145450Z
LAST-MODIFIED:20250613T195545Z
UID:10004510-1802975400-1802980800@julienshouse.ca
SUMMARY:Sibling Loss
DESCRIPTION:Our Sibling Loss Support Group offers a safe\, compassionate space for those grieving the loss of a sibling. Sessions are led by trained volunteers who have personally experienced sibling loss\, bringing empathy\, understanding\, and a unique perspective to the group.
URL:https://julienshouse.ca/event/sibling-loss-2/2027-02-18/
CATEGORIES:Sibling Loss,SUPPORT GROUPS
END:VEVENT
BEGIN:VEVENT
DTSTART;TZID=America/Toronto:20270318T183000
DTEND;TZID=America/Toronto:20270318T200000
DTSTAMP:20260420T090827
CREATED:20250613T145450Z
LAST-MODIFIED:20250613T195545Z
UID:10004511-1805394600-1805400000@julienshouse.ca
SUMMARY:Sibling Loss
DESCRIPTION:Our Sibling Loss Support Group offers a safe\, compassionate space for those grieving the loss of a sibling. Sessions are led by trained volunteers who have personally experienced sibling loss\, bringing empathy\, understanding\, and a unique perspective to the group.
URL:https://julienshouse.ca/event/sibling-loss-2/2027-03-18/
CATEGORIES:Sibling Loss,SUPPORT GROUPS
END:VEVENT
BEGIN:VEVENT
DTSTART;TZID=America/Toronto:20270415T183000
DTEND;TZID=America/Toronto:20270415T200000
DTSTAMP:20260420T090827
CREATED:20250613T145450Z
LAST-MODIFIED:20250613T195545Z
UID:10004512-1807813800-1807819200@julienshouse.ca
SUMMARY:Sibling Loss
DESCRIPTION:Our Sibling Loss Support Group offers a safe\, compassionate space for those grieving the loss of a sibling. Sessions are led by trained volunteers who have personally experienced sibling loss\, bringing empathy\, understanding\, and a unique perspective to the group.
URL:https://julienshouse.ca/event/sibling-loss-2/2027-04-15/
CATEGORIES:Sibling Loss,SUPPORT GROUPS
END:VEVENT
BEGIN:VEVENT
DTSTART;TZID=America/Toronto:20270520T183000
DTEND;TZID=America/Toronto:20270520T200000
DTSTAMP:20260420T090827
CREATED:20250613T145450Z
LAST-MODIFIED:20250613T195545Z
UID:10004513-1810837800-1810843200@julienshouse.ca
SUMMARY:Sibling Loss
DESCRIPTION:Our Sibling Loss Support Group offers a safe\, compassionate space for those grieving the loss of a sibling. Sessions are led by trained volunteers who have personally experienced sibling loss\, bringing empathy\, understanding\, and a unique perspective to the group.
URL:https://julienshouse.ca/event/sibling-loss-2/2027-05-20/
CATEGORIES:Sibling Loss,SUPPORT GROUPS
END:VEVENT
BEGIN:VEVENT
DTSTART;TZID=America/Toronto:20270617T183000
DTEND;TZID=America/Toronto:20270617T200000
DTSTAMP:20260420T090827
CREATED:20250613T145450Z
LAST-MODIFIED:20250613T195545Z
UID:10000259-1813257000-1813262400@julienshouse.ca
SUMMARY:Sibling Loss
DESCRIPTION:Our Sibling Loss Support Group offers a safe\, compassionate space for those grieving the loss of a sibling. Sessions are led by trained volunteers who have personally experienced sibling loss\, bringing empathy\, understanding\, and a unique perspective to the group.
URL:https://julienshouse.ca/event/sibling-loss-2/2027-06-17/
CATEGORIES:Sibling Loss,SUPPORT GROUPS
END:VEVENT
BEGIN:VEVENT
DTSTART;TZID=America/Toronto:20270715T183000
DTEND;TZID=America/Toronto:20270715T200000
DTSTAMP:20260420T090827
CREATED:20250613T145450Z
LAST-MODIFIED:20250613T195545Z
UID:10004514-1815676200-1815681600@julienshouse.ca
SUMMARY:Sibling Loss
DESCRIPTION:Our Sibling Loss Support Group offers a safe\, compassionate space for those grieving the loss of a sibling. Sessions are led by trained volunteers who have personally experienced sibling loss\, bringing empathy\, understanding\, and a unique perspective to the group.
URL:https://julienshouse.ca/event/sibling-loss-2/2027-07-15/
CATEGORIES:Sibling Loss,SUPPORT GROUPS
END:VEVENT
BEGIN:VEVENT
DTSTART;TZID=America/Toronto:20270819T183000
DTEND;TZID=America/Toronto:20270819T200000
DTSTAMP:20260420T090827
CREATED:20250613T145450Z
LAST-MODIFIED:20250613T195545Z
UID:10004515-1818700200-1818705600@julienshouse.ca
SUMMARY:Sibling Loss
DESCRIPTION:Our Sibling Loss Support Group offers a safe\, compassionate space for those grieving the loss of a sibling. Sessions are led by trained volunteers who have personally experienced sibling loss\, bringing empathy\, understanding\, and a unique perspective to the group.
URL:https://julienshouse.ca/event/sibling-loss-2/2027-08-19/
CATEGORIES:Sibling Loss,SUPPORT GROUPS
END:VEVENT
BEGIN:VEVENT
DTSTART;TZID=America/Toronto:20270916T183000
DTEND;TZID=America/Toronto:20270916T200000
DTSTAMP:20260420T090827
CREATED:20250613T145450Z
LAST-MODIFIED:20250613T195545Z
UID:10004516-1821119400-1821124800@julienshouse.ca
SUMMARY:Sibling Loss
DESCRIPTION:Our Sibling Loss Support Group offers a safe\, compassionate space for those grieving the loss of a sibling. Sessions are led by trained volunteers who have personally experienced sibling loss\, bringing empathy\, understanding\, and a unique perspective to the group.
URL:https://julienshouse.ca/event/sibling-loss-2/2027-09-16/
CATEGORIES:Sibling Loss,SUPPORT GROUPS
END:VEVENT
BEGIN:VEVENT
DTSTART;TZID=America/Toronto:20271021T183000
DTEND;TZID=America/Toronto:20271021T200000
DTSTAMP:20260420T090827
CREATED:20250613T145450Z
LAST-MODIFIED:20250613T195545Z
UID:10004517-1824143400-1824148800@julienshouse.ca
SUMMARY:Sibling Loss
DESCRIPTION:Our Sibling Loss Support Group offers a safe\, compassionate space for those grieving the loss of a sibling. Sessions are led by trained volunteers who have personally experienced sibling loss\, bringing empathy\, understanding\, and a unique perspective to the group.
URL:https://julienshouse.ca/event/sibling-loss-2/2027-10-21/
CATEGORIES:Sibling Loss,SUPPORT GROUPS
END:VEVENT
BEGIN:VEVENT
DTSTART;TZID=America/Toronto:20271118T183000
DTEND;TZID=America/Toronto:20271118T200000
DTSTAMP:20260420T090827
CREATED:20250613T145450Z
LAST-MODIFIED:20250613T195545Z
UID:10004518-1826562600-1826568000@julienshouse.ca
SUMMARY:Sibling Loss
DESCRIPTION:Our Sibling Loss Support Group offers a safe\, compassionate space for those grieving the loss of a sibling. Sessions are led by trained volunteers who have personally experienced sibling loss\, bringing empathy\, understanding\, and a unique perspective to the group.
URL:https://julienshouse.ca/event/sibling-loss-2/2027-11-18/
CATEGORIES:Sibling Loss,SUPPORT GROUPS
END:VEVENT
BEGIN:VEVENT
DTSTART;TZID=America/Toronto:20271216T183000
DTEND;TZID=America/Toronto:20271216T200000
DTSTAMP:20260420T090827
CREATED:20250613T145450Z
LAST-MODIFIED:20250613T195545Z
UID:10004519-1828981800-1828987200@julienshouse.ca
SUMMARY:Sibling Loss
DESCRIPTION:Our Sibling Loss Support Group offers a safe\, compassionate space for those grieving the loss of a sibling. Sessions are led by trained volunteers who have personally experienced sibling loss\, bringing empathy\, understanding\, and a unique perspective to the group.
URL:https://julienshouse.ca/event/sibling-loss-2/2027-12-16/
CATEGORIES:Sibling Loss,SUPPORT GROUPS
END:VEVENT
BEGIN:VEVENT
DTSTART;TZID=America/Toronto:20280120T183000
DTEND;TZID=America/Toronto:20280120T200000
DTSTAMP:20260420T090827
CREATED:20250613T145450Z
LAST-MODIFIED:20250613T195545Z
UID:10004520-1832005800-1832011200@julienshouse.ca
SUMMARY:Sibling Loss
DESCRIPTION:Our Sibling Loss Support Group offers a safe\, compassionate space for those grieving the loss of a sibling. Sessions are led by trained volunteers who have personally experienced sibling loss\, bringing empathy\, understanding\, and a unique perspective to the group.
URL:https://julienshouse.ca/event/sibling-loss-2/2028-01-20/
CATEGORIES:Sibling Loss,SUPPORT GROUPS
END:VEVENT
BEGIN:VEVENT
DTSTART;TZID=America/Toronto:20280217T183000
DTEND;TZID=America/Toronto:20280217T200000
DTSTAMP:20260420T090827
CREATED:20250613T145450Z
LAST-MODIFIED:20250613T195545Z
UID:10000278-1834425000-1834430400@julienshouse.ca
SUMMARY:Sibling Loss
DESCRIPTION:Our Sibling Loss Support Group offers a safe\, compassionate space for those grieving the loss of a sibling. Sessions are led by trained volunteers who have personally experienced sibling loss\, bringing empathy\, understanding\, and a unique perspective to the group.
URL:https://julienshouse.ca/event/sibling-loss-2/2028-02-17/
CATEGORIES:Sibling Loss,SUPPORT GROUPS
END:VEVENT
BEGIN:VEVENT
DTSTART;TZID=America/Toronto:20280316T183000
DTEND;TZID=America/Toronto:20280316T200000
DTSTAMP:20260420T090827
CREATED:20250613T145450Z
LAST-MODIFIED:20250613T195545Z
UID:10004521-1836844200-1836849600@julienshouse.ca
SUMMARY:Sibling Loss
DESCRIPTION:Our Sibling Loss Support Group offers a safe\, compassionate space for those grieving the loss of a sibling. Sessions are led by trained volunteers who have personally experienced sibling loss\, bringing empathy\, understanding\, and a unique perspective to the group.
URL:https://julienshouse.ca/event/sibling-loss-2/2028-03-16/
CATEGORIES:Sibling Loss,SUPPORT GROUPS
END:VEVENT
BEGIN:VEVENT
DTSTART;TZID=America/Toronto:20280420T183000
DTEND;TZID=America/Toronto:20280420T200000
DTSTAMP:20260420T090827
CREATED:20250613T145450Z
LAST-MODIFIED:20250613T195545Z
UID:10004522-1839868200-1839873600@julienshouse.ca
SUMMARY:Sibling Loss
DESCRIPTION:Our Sibling Loss Support Group offers a safe\, compassionate space for those grieving the loss of a sibling. Sessions are led by trained volunteers who have personally experienced sibling loss\, bringing empathy\, understanding\, and a unique perspective to the group.
URL:https://julienshouse.ca/event/sibling-loss-2/2028-04-20/
CATEGORIES:Sibling Loss,SUPPORT GROUPS
END:VEVENT
BEGIN:VEVENT
DTSTART;TZID=America/Toronto:20280518T183000
DTEND;TZID=America/Toronto:20280518T200000
DTSTAMP:20260420T090827
CREATED:20250613T145450Z
LAST-MODIFIED:20250613T195545Z
UID:10004523-1842287400-1842292800@julienshouse.ca
SUMMARY:Sibling Loss
DESCRIPTION:Our Sibling Loss Support Group offers a safe\, compassionate space for those grieving the loss of a sibling. Sessions are led by trained volunteers who have personally experienced sibling loss\, bringing empathy\, understanding\, and a unique perspective to the group.
URL:https://julienshouse.ca/event/sibling-loss-2/2028-05-18/
CATEGORIES:Sibling Loss,SUPPORT GROUPS
END:VEVENT
BEGIN:VEVENT
DTSTART;TZID=America/Toronto:20280615T183000
DTEND;TZID=America/Toronto:20280615T200000
DTSTAMP:20260420T090827
CREATED:20250613T145450Z
LAST-MODIFIED:20250613T195545Z
UID:10004524-1844706600-1844712000@julienshouse.ca
SUMMARY:Sibling Loss
DESCRIPTION:Our Sibling Loss Support Group offers a safe\, compassionate space for those grieving the loss of a sibling. Sessions are led by trained volunteers who have personally experienced sibling loss\, bringing empathy\, understanding\, and a unique perspective to the group.
URL:https://julienshouse.ca/event/sibling-loss-2/2028-06-15/
CATEGORIES:Sibling Loss,SUPPORT GROUPS
END:VEVENT
BEGIN:VEVENT
DTSTART;TZID=America/Toronto:20280720T183000
DTEND;TZID=America/Toronto:20280720T200000
DTSTAMP:20260420T090827
CREATED:20250613T145450Z
LAST-MODIFIED:20250613T195545Z
UID:10004525-1847730600-1847736000@julienshouse.ca
SUMMARY:Sibling Loss
DESCRIPTION:Our Sibling Loss Support Group offers a safe\, compassionate space for those grieving the loss of a sibling. Sessions are led by trained volunteers who have personally experienced sibling loss\, bringing empathy\, understanding\, and a unique perspective to the group.
URL:https://julienshouse.ca/event/sibling-loss-2/2028-07-20/
CATEGORIES:Sibling Loss,SUPPORT GROUPS
END:VEVENT
BEGIN:VEVENT
DTSTART;TZID=America/Toronto:20280817T183000
DTEND;TZID=America/Toronto:20280817T200000
DTSTAMP:20260420T090827
CREATED:20250613T145450Z
LAST-MODIFIED:20250613T195545Z
UID:10000292-1850149800-1850155200@julienshouse.ca
SUMMARY:Sibling Loss
DESCRIPTION:Our Sibling Loss Support Group offers a safe\, compassionate space for those grieving the loss of a sibling. Sessions are led by trained volunteers who have personally experienced sibling loss\, bringing empathy\, understanding\, and a unique perspective to the group.
URL:https://julienshouse.ca/event/sibling-loss-2/2028-08-17/
CATEGORIES:Sibling Loss,SUPPORT GROUPS
END:VEVENT
BEGIN:VEVENT
DTSTART;TZID=America/Toronto:20280921T183000
DTEND;TZID=America/Toronto:20280921T200000
DTSTAMP:20260420T090827
CREATED:20250613T145450Z
LAST-MODIFIED:20250613T195545Z
UID:10004526-1853173800-1853179200@julienshouse.ca
SUMMARY:Sibling Loss
DESCRIPTION:Our Sibling Loss Support Group offers a safe\, compassionate space for those grieving the loss of a sibling. Sessions are led by trained volunteers who have personally experienced sibling loss\, bringing empathy\, understanding\, and a unique perspective to the group.
URL:https://julienshouse.ca/event/sibling-loss-2/2028-09-21/
CATEGORIES:Sibling Loss,SUPPORT GROUPS
END:VEVENT
BEGIN:VEVENT
DTSTART;TZID=America/Toronto:20281019T183000
DTEND;TZID=America/Toronto:20281019T200000
DTSTAMP:20260420T090827
CREATED:20250613T145450Z
LAST-MODIFIED:20250613T195545Z
UID:10004527-1855593000-1855598400@julienshouse.ca
SUMMARY:Sibling Loss
DESCRIPTION:Our Sibling Loss Support Group offers a safe\, compassionate space for those grieving the loss of a sibling. Sessions are led by trained volunteers who have personally experienced sibling loss\, bringing empathy\, understanding\, and a unique perspective to the group.
URL:https://julienshouse.ca/event/sibling-loss-2/2028-10-19/
CATEGORIES:Sibling Loss,SUPPORT GROUPS
END:VEVENT
END:VCALENDAR