BEGIN:VCALENDAR
VERSION:2.0
PRODID:-//Julien&#039;s House - ECPv6.15.20//NONSGML v1.0//EN
CALSCALE:GREGORIAN
METHOD:PUBLISH
X-WR-CALNAME:Julien&#039;s House
X-ORIGINAL-URL:https://julienshouse.ca
X-WR-CALDESC:Events for Julien&#039;s House
REFRESH-INTERVAL;VALUE=DURATION:PT1H
X-Robots-Tag:noindex
X-PUBLISHED-TTL:PT1H
BEGIN:VTIMEZONE
TZID:America/Toronto
BEGIN:DAYLIGHT
TZOFFSETFROM:-0500
TZOFFSETTO:-0400
TZNAME:EDT
DTSTART:20240310T070000
END:DAYLIGHT
BEGIN:STANDARD
TZOFFSETFROM:-0400
TZOFFSETTO:-0500
TZNAME:EST
DTSTART:20241103T060000
END:STANDARD
BEGIN:DAYLIGHT
TZOFFSETFROM:-0500
TZOFFSETTO:-0400
TZNAME:EDT
DTSTART:20250309T070000
END:DAYLIGHT
BEGIN:STANDARD
TZOFFSETFROM:-0400
TZOFFSETTO:-0500
TZNAME:EST
DTSTART:20251102T060000
END:STANDARD
BEGIN:DAYLIGHT
TZOFFSETFROM:-0500
TZOFFSETTO:-0400
TZNAME:EDT
DTSTART:20260308T070000
END:DAYLIGHT
BEGIN:STANDARD
TZOFFSETFROM:-0400
TZOFFSETTO:-0500
TZNAME:EST
DTSTART:20261101T060000
END:STANDARD
END:VTIMEZONE
BEGIN:VEVENT
DTSTART;TZID=America/Toronto:20251203T183000
DTEND;TZID=America/Toronto:20251203T200000
DTSTAMP:20260421T065107
CREATED:20250204T221715Z
LAST-MODIFIED:20250204T222237Z
UID:10002957-1764786600-1764792000@julienshouse.ca
SUMMARY:Spousal Loss
DESCRIPTION:Our Spousal Loss Support Group offers a safe\, compassionate space for those grieving the loss of a Spouse. Each session is led by trained volunteers who have personally experienced Spousal loss\, bringing empathy\, understanding\, and a unique perspective to the group. \n  \nThe evening spousal session is generally attended by spouses who are not yet retired\, but your own schedule will dictate the right meeting for you.
URL:https://julienshouse.ca/event/spousal-loss/2025-12-03/
CATEGORIES:Spousal Loss,SUPPORT GROUPS
END:VEVENT
END:VCALENDAR