BEGIN:VCALENDAR
VERSION:2.0
PRODID:-//Julien&#039;s House - ECPv6.15.20//NONSGML v1.0//EN
CALSCALE:GREGORIAN
METHOD:PUBLISH
X-ORIGINAL-URL:https://julienshouse.ca
X-WR-CALDESC:Events for Julien&#039;s House
REFRESH-INTERVAL;VALUE=DURATION:PT1H
X-Robots-Tag:noindex
X-PUBLISHED-TTL:PT1H
BEGIN:VTIMEZONE
TZID:America/Toronto
BEGIN:DAYLIGHT
TZOFFSETFROM:-0500
TZOFFSETTO:-0400
TZNAME:EDT
DTSTART:20250309T070000
END:DAYLIGHT
BEGIN:STANDARD
TZOFFSETFROM:-0400
TZOFFSETTO:-0500
TZNAME:EST
DTSTART:20251102T060000
END:STANDARD
BEGIN:DAYLIGHT
TZOFFSETFROM:-0500
TZOFFSETTO:-0400
TZNAME:EDT
DTSTART:20260308T070000
END:DAYLIGHT
BEGIN:STANDARD
TZOFFSETFROM:-0400
TZOFFSETTO:-0500
TZNAME:EST
DTSTART:20261101T060000
END:STANDARD
BEGIN:DAYLIGHT
TZOFFSETFROM:-0500
TZOFFSETTO:-0400
TZNAME:EDT
DTSTART:20270314T070000
END:DAYLIGHT
BEGIN:STANDARD
TZOFFSETFROM:-0400
TZOFFSETTO:-0500
TZNAME:EST
DTSTART:20271107T060000
END:STANDARD
END:VTIMEZONE
BEGIN:VEVENT
DTSTART;TZID=America/Toronto:20260219T183000
DTEND;TZID=America/Toronto:20260219T200000
DTSTAMP:20260420T151044
CREATED:20250613T145450Z
LAST-MODIFIED:20250613T195545Z
UID:10004500-1771525800-1771531200@julienshouse.ca
SUMMARY:Sibling Loss
DESCRIPTION:Our Sibling Loss Support Group offers a safe\, compassionate space for those grieving the loss of a sibling. Sessions are led by trained volunteers who have personally experienced sibling loss\, bringing empathy\, understanding\, and a unique perspective to the group.
URL:https://julienshouse.ca/event/sibling-loss-2/2026-02-19/
CATEGORIES:Sibling Loss,SUPPORT GROUPS
END:VEVENT
END:VCALENDAR