BEGIN:VCALENDAR
VERSION:2.0
PRODID:-//Julien&#039;s House - ECPv6.15.20//NONSGML v1.0//EN
CALSCALE:GREGORIAN
METHOD:PUBLISH
X-WR-CALNAME:Julien&#039;s House
X-ORIGINAL-URL:https://julienshouse.ca
X-WR-CALDESC:Events for Julien&#039;s House
REFRESH-INTERVAL;VALUE=DURATION:PT1H
X-Robots-Tag:noindex
X-PUBLISHED-TTL:PT1H
BEGIN:VTIMEZONE
TZID:America/Toronto
BEGIN:DAYLIGHT
TZOFFSETFROM:-0500
TZOFFSETTO:-0400
TZNAME:EDT
DTSTART:20290311T070000
END:DAYLIGHT
BEGIN:STANDARD
TZOFFSETFROM:-0400
TZOFFSETTO:-0500
TZNAME:EST
DTSTART:20291104T060000
END:STANDARD
BEGIN:DAYLIGHT
TZOFFSETFROM:-0500
TZOFFSETTO:-0400
TZNAME:EDT
DTSTART:20300310T070000
END:DAYLIGHT
BEGIN:STANDARD
TZOFFSETFROM:-0400
TZOFFSETTO:-0500
TZNAME:EST
DTSTART:20301103T060000
END:STANDARD
BEGIN:DAYLIGHT
TZOFFSETFROM:-0500
TZOFFSETTO:-0400
TZNAME:EDT
DTSTART:20310309T070000
END:DAYLIGHT
BEGIN:STANDARD
TZOFFSETFROM:-0400
TZOFFSETTO:-0500
TZNAME:EST
DTSTART:20311102T060000
END:STANDARD
BEGIN:DAYLIGHT
TZOFFSETFROM:-0500
TZOFFSETTO:-0400
TZNAME:EDT
DTSTART:20320314T070000
END:DAYLIGHT
BEGIN:STANDARD
TZOFFSETFROM:-0400
TZOFFSETTO:-0500
TZNAME:EST
DTSTART:20321107T060000
END:STANDARD
END:VTIMEZONE
BEGIN:VEVENT
DTSTART;TZID=America/Toronto:20300502T100000
DTEND;TZID=America/Toronto:20300502T233000
DTSTAMP:20260422T064723
CREATED:20260219T181313Z
LAST-MODIFIED:20260219T181313Z
UID:10006851-1903946400-1903995000@julienshouse.ca
SUMMARY:Spousal Loss (Senior)
DESCRIPTION:Our Spousal Loss Support Group offers a safe\, compassionate space for those grieving the loss of a Spouse. Each session is led by trained volunteers who have personally experienced Spousal loss\, bringing empathy\, understanding\, and a unique perspective to the group. \n  \nThe morning session is generally attended by retirees\, but your own schedule will dictate the right meeting for you.
URL:https://julienshouse.ca/event/spousal-loss-senior-2-2/2030-05-02/
CATEGORIES:Senior Spousal Loss,SUPPORT GROUPS
END:VEVENT
BEGIN:VEVENT
DTSTART;TZID=America/Toronto:20300606T100000
DTEND;TZID=America/Toronto:20300606T233000
DTSTAMP:20260422T064723
CREATED:20260219T181313Z
LAST-MODIFIED:20260219T181313Z
UID:10006852-1906970400-1907019000@julienshouse.ca
SUMMARY:Spousal Loss (Senior)
DESCRIPTION:Our Spousal Loss Support Group offers a safe\, compassionate space for those grieving the loss of a Spouse. Each session is led by trained volunteers who have personally experienced Spousal loss\, bringing empathy\, understanding\, and a unique perspective to the group. \n  \nThe morning session is generally attended by retirees\, but your own schedule will dictate the right meeting for you.
URL:https://julienshouse.ca/event/spousal-loss-senior-2-2/2030-06-06/
CATEGORIES:Senior Spousal Loss,SUPPORT GROUPS
END:VEVENT
BEGIN:VEVENT
DTSTART;TZID=America/Toronto:20300704T100000
DTEND;TZID=America/Toronto:20300704T233000
DTSTAMP:20260422T064723
CREATED:20260219T181313Z
LAST-MODIFIED:20260219T181313Z
UID:10006853-1909389600-1909438200@julienshouse.ca
SUMMARY:Spousal Loss (Senior)
DESCRIPTION:Our Spousal Loss Support Group offers a safe\, compassionate space for those grieving the loss of a Spouse. Each session is led by trained volunteers who have personally experienced Spousal loss\, bringing empathy\, understanding\, and a unique perspective to the group. \n  \nThe morning session is generally attended by retirees\, but your own schedule will dictate the right meeting for you.
URL:https://julienshouse.ca/event/spousal-loss-senior-2-2/2030-07-04/
CATEGORIES:Senior Spousal Loss,SUPPORT GROUPS
END:VEVENT
BEGIN:VEVENT
DTSTART;TZID=America/Toronto:20300801T100000
DTEND;TZID=America/Toronto:20300801T233000
DTSTAMP:20260422T064723
CREATED:20260219T181313Z
LAST-MODIFIED:20260219T181313Z
UID:10006854-1911808800-1911857400@julienshouse.ca
SUMMARY:Spousal Loss (Senior)
DESCRIPTION:Our Spousal Loss Support Group offers a safe\, compassionate space for those grieving the loss of a Spouse. Each session is led by trained volunteers who have personally experienced Spousal loss\, bringing empathy\, understanding\, and a unique perspective to the group. \n  \nThe morning session is generally attended by retirees\, but your own schedule will dictate the right meeting for you.
URL:https://julienshouse.ca/event/spousal-loss-senior-2-2/2030-08-01/
CATEGORIES:Senior Spousal Loss,SUPPORT GROUPS
END:VEVENT
BEGIN:VEVENT
DTSTART;TZID=America/Toronto:20300905T100000
DTEND;TZID=America/Toronto:20300905T233000
DTSTAMP:20260422T064723
CREATED:20260219T181313Z
LAST-MODIFIED:20260219T181313Z
UID:10006855-1914832800-1914881400@julienshouse.ca
SUMMARY:Spousal Loss (Senior)
DESCRIPTION:Our Spousal Loss Support Group offers a safe\, compassionate space for those grieving the loss of a Spouse. Each session is led by trained volunteers who have personally experienced Spousal loss\, bringing empathy\, understanding\, and a unique perspective to the group. \n  \nThe morning session is generally attended by retirees\, but your own schedule will dictate the right meeting for you.
URL:https://julienshouse.ca/event/spousal-loss-senior-2-2/2030-09-05/
CATEGORIES:Senior Spousal Loss,SUPPORT GROUPS
END:VEVENT
BEGIN:VEVENT
DTSTART;TZID=America/Toronto:20301003T100000
DTEND;TZID=America/Toronto:20301003T233000
DTSTAMP:20260422T064723
CREATED:20260219T181313Z
LAST-MODIFIED:20260219T181313Z
UID:10006856-1917252000-1917300600@julienshouse.ca
SUMMARY:Spousal Loss (Senior)
DESCRIPTION:Our Spousal Loss Support Group offers a safe\, compassionate space for those grieving the loss of a Spouse. Each session is led by trained volunteers who have personally experienced Spousal loss\, bringing empathy\, understanding\, and a unique perspective to the group. \n  \nThe morning session is generally attended by retirees\, but your own schedule will dictate the right meeting for you.
URL:https://julienshouse.ca/event/spousal-loss-senior-2-2/2030-10-03/
CATEGORIES:Senior Spousal Loss,SUPPORT GROUPS
END:VEVENT
BEGIN:VEVENT
DTSTART;TZID=America/Toronto:20301107T100000
DTEND;TZID=America/Toronto:20301107T233000
DTSTAMP:20260422T064723
CREATED:20260219T181313Z
LAST-MODIFIED:20260219T181313Z
UID:10006857-1920276000-1920324600@julienshouse.ca
SUMMARY:Spousal Loss (Senior)
DESCRIPTION:Our Spousal Loss Support Group offers a safe\, compassionate space for those grieving the loss of a Spouse. Each session is led by trained volunteers who have personally experienced Spousal loss\, bringing empathy\, understanding\, and a unique perspective to the group. \n  \nThe morning session is generally attended by retirees\, but your own schedule will dictate the right meeting for you.
URL:https://julienshouse.ca/event/spousal-loss-senior-2-2/2030-11-07/
CATEGORIES:Senior Spousal Loss,SUPPORT GROUPS
END:VEVENT
BEGIN:VEVENT
DTSTART;TZID=America/Toronto:20301205T100000
DTEND;TZID=America/Toronto:20301205T233000
DTSTAMP:20260422T064723
CREATED:20260219T181313Z
LAST-MODIFIED:20260219T181313Z
UID:10006858-1922695200-1922743800@julienshouse.ca
SUMMARY:Spousal Loss (Senior)
DESCRIPTION:Our Spousal Loss Support Group offers a safe\, compassionate space for those grieving the loss of a Spouse. Each session is led by trained volunteers who have personally experienced Spousal loss\, bringing empathy\, understanding\, and a unique perspective to the group. \n  \nThe morning session is generally attended by retirees\, but your own schedule will dictate the right meeting for you.
URL:https://julienshouse.ca/event/spousal-loss-senior-2-2/2030-12-05/
CATEGORIES:Senior Spousal Loss,SUPPORT GROUPS
END:VEVENT
BEGIN:VEVENT
DTSTART;TZID=America/Toronto:20310102T100000
DTEND;TZID=America/Toronto:20310102T233000
DTSTAMP:20260422T064723
CREATED:20260219T181313Z
LAST-MODIFIED:20260219T181313Z
UID:10006859-1925114400-1925163000@julienshouse.ca
SUMMARY:Spousal Loss (Senior)
DESCRIPTION:Our Spousal Loss Support Group offers a safe\, compassionate space for those grieving the loss of a Spouse. Each session is led by trained volunteers who have personally experienced Spousal loss\, bringing empathy\, understanding\, and a unique perspective to the group. \n  \nThe morning session is generally attended by retirees\, but your own schedule will dictate the right meeting for you.
URL:https://julienshouse.ca/event/spousal-loss-senior-2-2/2031-01-02/
CATEGORIES:Senior Spousal Loss,SUPPORT GROUPS
END:VEVENT
BEGIN:VEVENT
DTSTART;TZID=America/Toronto:20310206T100000
DTEND;TZID=America/Toronto:20310206T233000
DTSTAMP:20260422T064723
CREATED:20260219T181313Z
LAST-MODIFIED:20260219T181313Z
UID:10006860-1928138400-1928187000@julienshouse.ca
SUMMARY:Spousal Loss (Senior)
DESCRIPTION:Our Spousal Loss Support Group offers a safe\, compassionate space for those grieving the loss of a Spouse. Each session is led by trained volunteers who have personally experienced Spousal loss\, bringing empathy\, understanding\, and a unique perspective to the group. \n  \nThe morning session is generally attended by retirees\, but your own schedule will dictate the right meeting for you.
URL:https://julienshouse.ca/event/spousal-loss-senior-2-2/2031-02-06/
CATEGORIES:Senior Spousal Loss,SUPPORT GROUPS
END:VEVENT
END:VCALENDAR