BEGIN:VCALENDAR
VERSION:2.0
PRODID:-//Julien&#039;s House - ECPv6.15.20//NONSGML v1.0//EN
CALSCALE:GREGORIAN
METHOD:PUBLISH
X-ORIGINAL-URL:https://julienshouse.ca
X-WR-CALDESC:Events for Julien&#039;s House
REFRESH-INTERVAL;VALUE=DURATION:PT1H
X-Robots-Tag:noindex
X-PUBLISHED-TTL:PT1H
BEGIN:VTIMEZONE
TZID:America/Toronto
BEGIN:DAYLIGHT
TZOFFSETFROM:-0500
TZOFFSETTO:-0400
TZNAME:EDT
DTSTART:20260308T070000
END:DAYLIGHT
BEGIN:STANDARD
TZOFFSETFROM:-0400
TZOFFSETTO:-0500
TZNAME:EST
DTSTART:20261101T060000
END:STANDARD
BEGIN:DAYLIGHT
TZOFFSETFROM:-0500
TZOFFSETTO:-0400
TZNAME:EDT
DTSTART:20270314T070000
END:DAYLIGHT
BEGIN:STANDARD
TZOFFSETFROM:-0400
TZOFFSETTO:-0500
TZNAME:EST
DTSTART:20271107T060000
END:STANDARD
BEGIN:DAYLIGHT
TZOFFSETFROM:-0500
TZOFFSETTO:-0400
TZNAME:EDT
DTSTART:20280312T070000
END:DAYLIGHT
BEGIN:STANDARD
TZOFFSETFROM:-0400
TZOFFSETTO:-0500
TZNAME:EST
DTSTART:20281105T060000
END:STANDARD
BEGIN:DAYLIGHT
TZOFFSETFROM:-0500
TZOFFSETTO:-0400
TZNAME:EDT
DTSTART:20290311T070000
END:DAYLIGHT
BEGIN:STANDARD
TZOFFSETFROM:-0400
TZOFFSETTO:-0500
TZNAME:EST
DTSTART:20291104T060000
END:STANDARD
BEGIN:DAYLIGHT
TZOFFSETFROM:-0500
TZOFFSETTO:-0400
TZNAME:EDT
DTSTART:20300310T070000
END:DAYLIGHT
BEGIN:STANDARD
TZOFFSETFROM:-0400
TZOFFSETTO:-0500
TZNAME:EST
DTSTART:20301103T060000
END:STANDARD
END:VTIMEZONE
BEGIN:VEVENT
DTSTART;TZID=America/Toronto:20270506T100000
DTEND;TZID=America/Toronto:20270506T233000
DTSTAMP:20260420T140836
CREATED:20260219T181313Z
LAST-MODIFIED:20260219T181313Z
UID:10006815-1809597600-1809646200@julienshouse.ca
SUMMARY:Spousal Loss (Senior)
DESCRIPTION:Our Spousal Loss Support Group offers a safe\, compassionate space for those grieving the loss of a Spouse. Each session is led by trained volunteers who have personally experienced Spousal loss\, bringing empathy\, understanding\, and a unique perspective to the group. \n  \nThe morning session is generally attended by retirees\, but your own schedule will dictate the right meeting for you.
URL:https://julienshouse.ca/event/spousal-loss-senior-2-2/2027-05-06/
CATEGORIES:Senior Spousal Loss,SUPPORT GROUPS
END:VEVENT
BEGIN:VEVENT
DTSTART;TZID=America/Toronto:20270603T100000
DTEND;TZID=America/Toronto:20270603T233000
DTSTAMP:20260420T140836
CREATED:20260219T181313Z
LAST-MODIFIED:20260219T181313Z
UID:10006816-1812016800-1812065400@julienshouse.ca
SUMMARY:Spousal Loss (Senior)
DESCRIPTION:Our Spousal Loss Support Group offers a safe\, compassionate space for those grieving the loss of a Spouse. Each session is led by trained volunteers who have personally experienced Spousal loss\, bringing empathy\, understanding\, and a unique perspective to the group. \n  \nThe morning session is generally attended by retirees\, but your own schedule will dictate the right meeting for you.
URL:https://julienshouse.ca/event/spousal-loss-senior-2-2/2027-06-03/
CATEGORIES:Senior Spousal Loss,SUPPORT GROUPS
END:VEVENT
BEGIN:VEVENT
DTSTART;TZID=America/Toronto:20270701T100000
DTEND;TZID=America/Toronto:20270701T233000
DTSTAMP:20260420T140836
CREATED:20260219T181313Z
LAST-MODIFIED:20260219T181313Z
UID:10006817-1814436000-1814484600@julienshouse.ca
SUMMARY:Spousal Loss (Senior)
DESCRIPTION:Our Spousal Loss Support Group offers a safe\, compassionate space for those grieving the loss of a Spouse. Each session is led by trained volunteers who have personally experienced Spousal loss\, bringing empathy\, understanding\, and a unique perspective to the group. \n  \nThe morning session is generally attended by retirees\, but your own schedule will dictate the right meeting for you.
URL:https://julienshouse.ca/event/spousal-loss-senior-2-2/2027-07-01/
CATEGORIES:Senior Spousal Loss,SUPPORT GROUPS
END:VEVENT
BEGIN:VEVENT
DTSTART;TZID=America/Toronto:20270805T100000
DTEND;TZID=America/Toronto:20270805T233000
DTSTAMP:20260420T140836
CREATED:20260219T181313Z
LAST-MODIFIED:20260219T181313Z
UID:10006818-1817460000-1817508600@julienshouse.ca
SUMMARY:Spousal Loss (Senior)
DESCRIPTION:Our Spousal Loss Support Group offers a safe\, compassionate space for those grieving the loss of a Spouse. Each session is led by trained volunteers who have personally experienced Spousal loss\, bringing empathy\, understanding\, and a unique perspective to the group. \n  \nThe morning session is generally attended by retirees\, but your own schedule will dictate the right meeting for you.
URL:https://julienshouse.ca/event/spousal-loss-senior-2-2/2027-08-05/
CATEGORIES:Senior Spousal Loss,SUPPORT GROUPS
END:VEVENT
BEGIN:VEVENT
DTSTART;TZID=America/Toronto:20270902T100000
DTEND;TZID=America/Toronto:20270902T233000
DTSTAMP:20260420T140836
CREATED:20260219T181313Z
LAST-MODIFIED:20260219T181313Z
UID:10006819-1819879200-1819927800@julienshouse.ca
SUMMARY:Spousal Loss (Senior)
DESCRIPTION:Our Spousal Loss Support Group offers a safe\, compassionate space for those grieving the loss of a Spouse. Each session is led by trained volunteers who have personally experienced Spousal loss\, bringing empathy\, understanding\, and a unique perspective to the group. \n  \nThe morning session is generally attended by retirees\, but your own schedule will dictate the right meeting for you.
URL:https://julienshouse.ca/event/spousal-loss-senior-2-2/2027-09-02/
CATEGORIES:Senior Spousal Loss,SUPPORT GROUPS
END:VEVENT
BEGIN:VEVENT
DTSTART;TZID=America/Toronto:20271007T100000
DTEND;TZID=America/Toronto:20271007T233000
DTSTAMP:20260420T140836
CREATED:20260219T181313Z
LAST-MODIFIED:20260219T181313Z
UID:10006820-1822903200-1822951800@julienshouse.ca
SUMMARY:Spousal Loss (Senior)
DESCRIPTION:Our Spousal Loss Support Group offers a safe\, compassionate space for those grieving the loss of a Spouse. Each session is led by trained volunteers who have personally experienced Spousal loss\, bringing empathy\, understanding\, and a unique perspective to the group. \n  \nThe morning session is generally attended by retirees\, but your own schedule will dictate the right meeting for you.
URL:https://julienshouse.ca/event/spousal-loss-senior-2-2/2027-10-07/
CATEGORIES:Senior Spousal Loss,SUPPORT GROUPS
END:VEVENT
BEGIN:VEVENT
DTSTART;TZID=America/Toronto:20271104T100000
DTEND;TZID=America/Toronto:20271104T233000
DTSTAMP:20260420T140836
CREATED:20260219T181313Z
LAST-MODIFIED:20260219T181313Z
UID:10006821-1825322400-1825371000@julienshouse.ca
SUMMARY:Spousal Loss (Senior)
DESCRIPTION:Our Spousal Loss Support Group offers a safe\, compassionate space for those grieving the loss of a Spouse. Each session is led by trained volunteers who have personally experienced Spousal loss\, bringing empathy\, understanding\, and a unique perspective to the group. \n  \nThe morning session is generally attended by retirees\, but your own schedule will dictate the right meeting for you.
URL:https://julienshouse.ca/event/spousal-loss-senior-2-2/2027-11-04/
CATEGORIES:Senior Spousal Loss,SUPPORT GROUPS
END:VEVENT
BEGIN:VEVENT
DTSTART;TZID=America/Toronto:20271202T100000
DTEND;TZID=America/Toronto:20271202T233000
DTSTAMP:20260420T140836
CREATED:20260219T181313Z
LAST-MODIFIED:20260219T181313Z
UID:10006822-1827741600-1827790200@julienshouse.ca
SUMMARY:Spousal Loss (Senior)
DESCRIPTION:Our Spousal Loss Support Group offers a safe\, compassionate space for those grieving the loss of a Spouse. Each session is led by trained volunteers who have personally experienced Spousal loss\, bringing empathy\, understanding\, and a unique perspective to the group. \n  \nThe morning session is generally attended by retirees\, but your own schedule will dictate the right meeting for you.
URL:https://julienshouse.ca/event/spousal-loss-senior-2-2/2027-12-02/
CATEGORIES:Senior Spousal Loss,SUPPORT GROUPS
END:VEVENT
BEGIN:VEVENT
DTSTART;TZID=America/Toronto:20280106T100000
DTEND;TZID=America/Toronto:20280106T233000
DTSTAMP:20260420T140836
CREATED:20260219T181313Z
LAST-MODIFIED:20260219T181313Z
UID:10006823-1830765600-1830814200@julienshouse.ca
SUMMARY:Spousal Loss (Senior)
DESCRIPTION:Our Spousal Loss Support Group offers a safe\, compassionate space for those grieving the loss of a Spouse. Each session is led by trained volunteers who have personally experienced Spousal loss\, bringing empathy\, understanding\, and a unique perspective to the group. \n  \nThe morning session is generally attended by retirees\, but your own schedule will dictate the right meeting for you.
URL:https://julienshouse.ca/event/spousal-loss-senior-2-2/2028-01-06/
CATEGORIES:Senior Spousal Loss,SUPPORT GROUPS
END:VEVENT
BEGIN:VEVENT
DTSTART;TZID=America/Toronto:20280203T100000
DTEND;TZID=America/Toronto:20280203T233000
DTSTAMP:20260420T140836
CREATED:20260219T181313Z
LAST-MODIFIED:20260219T181313Z
UID:10006824-1833184800-1833233400@julienshouse.ca
SUMMARY:Spousal Loss (Senior)
DESCRIPTION:Our Spousal Loss Support Group offers a safe\, compassionate space for those grieving the loss of a Spouse. Each session is led by trained volunteers who have personally experienced Spousal loss\, bringing empathy\, understanding\, and a unique perspective to the group. \n  \nThe morning session is generally attended by retirees\, but your own schedule will dictate the right meeting for you.
URL:https://julienshouse.ca/event/spousal-loss-senior-2-2/2028-02-03/
CATEGORIES:Senior Spousal Loss,SUPPORT GROUPS
END:VEVENT
BEGIN:VEVENT
DTSTART;TZID=America/Toronto:20280302T100000
DTEND;TZID=America/Toronto:20280302T233000
DTSTAMP:20260420T140836
CREATED:20260219T181313Z
LAST-MODIFIED:20260219T181313Z
UID:10006825-1835604000-1835652600@julienshouse.ca
SUMMARY:Spousal Loss (Senior)
DESCRIPTION:Our Spousal Loss Support Group offers a safe\, compassionate space for those grieving the loss of a Spouse. Each session is led by trained volunteers who have personally experienced Spousal loss\, bringing empathy\, understanding\, and a unique perspective to the group. \n  \nThe morning session is generally attended by retirees\, but your own schedule will dictate the right meeting for you.
URL:https://julienshouse.ca/event/spousal-loss-senior-2-2/2028-03-02/
CATEGORIES:Senior Spousal Loss,SUPPORT GROUPS
END:VEVENT
BEGIN:VEVENT
DTSTART;TZID=America/Toronto:20280406T100000
DTEND;TZID=America/Toronto:20280406T233000
DTSTAMP:20260420T140836
CREATED:20260219T181313Z
LAST-MODIFIED:20260219T181313Z
UID:10006826-1838628000-1838676600@julienshouse.ca
SUMMARY:Spousal Loss (Senior)
DESCRIPTION:Our Spousal Loss Support Group offers a safe\, compassionate space for those grieving the loss of a Spouse. Each session is led by trained volunteers who have personally experienced Spousal loss\, bringing empathy\, understanding\, and a unique perspective to the group. \n  \nThe morning session is generally attended by retirees\, but your own schedule will dictate the right meeting for you.
URL:https://julienshouse.ca/event/spousal-loss-senior-2-2/2028-04-06/
CATEGORIES:Senior Spousal Loss,SUPPORT GROUPS
END:VEVENT
BEGIN:VEVENT
DTSTART;TZID=America/Toronto:20280504T100000
DTEND;TZID=America/Toronto:20280504T233000
DTSTAMP:20260420T140836
CREATED:20260219T181313Z
LAST-MODIFIED:20260219T181313Z
UID:10006827-1841047200-1841095800@julienshouse.ca
SUMMARY:Spousal Loss (Senior)
DESCRIPTION:Our Spousal Loss Support Group offers a safe\, compassionate space for those grieving the loss of a Spouse. Each session is led by trained volunteers who have personally experienced Spousal loss\, bringing empathy\, understanding\, and a unique perspective to the group. \n  \nThe morning session is generally attended by retirees\, but your own schedule will dictate the right meeting for you.
URL:https://julienshouse.ca/event/spousal-loss-senior-2-2/2028-05-04/
CATEGORIES:Senior Spousal Loss,SUPPORT GROUPS
END:VEVENT
BEGIN:VEVENT
DTSTART;TZID=America/Toronto:20280601T100000
DTEND;TZID=America/Toronto:20280601T233000
DTSTAMP:20260420T140836
CREATED:20260219T181313Z
LAST-MODIFIED:20260219T181313Z
UID:10006828-1843466400-1843515000@julienshouse.ca
SUMMARY:Spousal Loss (Senior)
DESCRIPTION:Our Spousal Loss Support Group offers a safe\, compassionate space for those grieving the loss of a Spouse. Each session is led by trained volunteers who have personally experienced Spousal loss\, bringing empathy\, understanding\, and a unique perspective to the group. \n  \nThe morning session is generally attended by retirees\, but your own schedule will dictate the right meeting for you.
URL:https://julienshouse.ca/event/spousal-loss-senior-2-2/2028-06-01/
CATEGORIES:Senior Spousal Loss,SUPPORT GROUPS
END:VEVENT
BEGIN:VEVENT
DTSTART;TZID=America/Toronto:20280706T100000
DTEND;TZID=America/Toronto:20280706T233000
DTSTAMP:20260420T140836
CREATED:20260219T181313Z
LAST-MODIFIED:20260219T181313Z
UID:10006829-1846490400-1846539000@julienshouse.ca
SUMMARY:Spousal Loss (Senior)
DESCRIPTION:Our Spousal Loss Support Group offers a safe\, compassionate space for those grieving the loss of a Spouse. Each session is led by trained volunteers who have personally experienced Spousal loss\, bringing empathy\, understanding\, and a unique perspective to the group. \n  \nThe morning session is generally attended by retirees\, but your own schedule will dictate the right meeting for you.
URL:https://julienshouse.ca/event/spousal-loss-senior-2-2/2028-07-06/
CATEGORIES:Senior Spousal Loss,SUPPORT GROUPS
END:VEVENT
BEGIN:VEVENT
DTSTART;TZID=America/Toronto:20280803T100000
DTEND;TZID=America/Toronto:20280803T233000
DTSTAMP:20260420T140836
CREATED:20260219T181313Z
LAST-MODIFIED:20260219T181313Z
UID:10006830-1848909600-1848958200@julienshouse.ca
SUMMARY:Spousal Loss (Senior)
DESCRIPTION:Our Spousal Loss Support Group offers a safe\, compassionate space for those grieving the loss of a Spouse. Each session is led by trained volunteers who have personally experienced Spousal loss\, bringing empathy\, understanding\, and a unique perspective to the group. \n  \nThe morning session is generally attended by retirees\, but your own schedule will dictate the right meeting for you.
URL:https://julienshouse.ca/event/spousal-loss-senior-2-2/2028-08-03/
CATEGORIES:Senior Spousal Loss,SUPPORT GROUPS
END:VEVENT
BEGIN:VEVENT
DTSTART;TZID=America/Toronto:20280907T100000
DTEND;TZID=America/Toronto:20280907T233000
DTSTAMP:20260420T140836
CREATED:20260219T181313Z
LAST-MODIFIED:20260219T181313Z
UID:10006831-1851933600-1851982200@julienshouse.ca
SUMMARY:Spousal Loss (Senior)
DESCRIPTION:Our Spousal Loss Support Group offers a safe\, compassionate space for those grieving the loss of a Spouse. Each session is led by trained volunteers who have personally experienced Spousal loss\, bringing empathy\, understanding\, and a unique perspective to the group. \n  \nThe morning session is generally attended by retirees\, but your own schedule will dictate the right meeting for you.
URL:https://julienshouse.ca/event/spousal-loss-senior-2-2/2028-09-07/
CATEGORIES:Senior Spousal Loss,SUPPORT GROUPS
END:VEVENT
BEGIN:VEVENT
DTSTART;TZID=America/Toronto:20281005T100000
DTEND;TZID=America/Toronto:20281005T233000
DTSTAMP:20260420T140836
CREATED:20260219T181313Z
LAST-MODIFIED:20260219T181313Z
UID:10006832-1854352800-1854401400@julienshouse.ca
SUMMARY:Spousal Loss (Senior)
DESCRIPTION:Our Spousal Loss Support Group offers a safe\, compassionate space for those grieving the loss of a Spouse. Each session is led by trained volunteers who have personally experienced Spousal loss\, bringing empathy\, understanding\, and a unique perspective to the group. \n  \nThe morning session is generally attended by retirees\, but your own schedule will dictate the right meeting for you.
URL:https://julienshouse.ca/event/spousal-loss-senior-2-2/2028-10-05/
CATEGORIES:Senior Spousal Loss,SUPPORT GROUPS
END:VEVENT
BEGIN:VEVENT
DTSTART;TZID=America/Toronto:20281102T100000
DTEND;TZID=America/Toronto:20281102T233000
DTSTAMP:20260420T140836
CREATED:20260219T181313Z
LAST-MODIFIED:20260219T181313Z
UID:10006833-1856772000-1856820600@julienshouse.ca
SUMMARY:Spousal Loss (Senior)
DESCRIPTION:Our Spousal Loss Support Group offers a safe\, compassionate space for those grieving the loss of a Spouse. Each session is led by trained volunteers who have personally experienced Spousal loss\, bringing empathy\, understanding\, and a unique perspective to the group. \n  \nThe morning session is generally attended by retirees\, but your own schedule will dictate the right meeting for you.
URL:https://julienshouse.ca/event/spousal-loss-senior-2-2/2028-11-02/
CATEGORIES:Senior Spousal Loss,SUPPORT GROUPS
END:VEVENT
BEGIN:VEVENT
DTSTART;TZID=America/Toronto:20281207T100000
DTEND;TZID=America/Toronto:20281207T233000
DTSTAMP:20260420T140836
CREATED:20260219T181313Z
LAST-MODIFIED:20260219T181313Z
UID:10006834-1859796000-1859844600@julienshouse.ca
SUMMARY:Spousal Loss (Senior)
DESCRIPTION:Our Spousal Loss Support Group offers a safe\, compassionate space for those grieving the loss of a Spouse. Each session is led by trained volunteers who have personally experienced Spousal loss\, bringing empathy\, understanding\, and a unique perspective to the group. \n  \nThe morning session is generally attended by retirees\, but your own schedule will dictate the right meeting for you.
URL:https://julienshouse.ca/event/spousal-loss-senior-2-2/2028-12-07/
CATEGORIES:Senior Spousal Loss,SUPPORT GROUPS
END:VEVENT
BEGIN:VEVENT
DTSTART;TZID=America/Toronto:20290104T100000
DTEND;TZID=America/Toronto:20290104T233000
DTSTAMP:20260420T140836
CREATED:20260219T181313Z
LAST-MODIFIED:20260219T181313Z
UID:10006835-1862215200-1862263800@julienshouse.ca
SUMMARY:Spousal Loss (Senior)
DESCRIPTION:Our Spousal Loss Support Group offers a safe\, compassionate space for those grieving the loss of a Spouse. Each session is led by trained volunteers who have personally experienced Spousal loss\, bringing empathy\, understanding\, and a unique perspective to the group. \n  \nThe morning session is generally attended by retirees\, but your own schedule will dictate the right meeting for you.
URL:https://julienshouse.ca/event/spousal-loss-senior-2-2/2029-01-04/
CATEGORIES:Senior Spousal Loss,SUPPORT GROUPS
END:VEVENT
BEGIN:VEVENT
DTSTART;TZID=America/Toronto:20290201T100000
DTEND;TZID=America/Toronto:20290201T233000
DTSTAMP:20260420T140836
CREATED:20260219T181313Z
LAST-MODIFIED:20260219T181313Z
UID:10006836-1864634400-1864683000@julienshouse.ca
SUMMARY:Spousal Loss (Senior)
DESCRIPTION:Our Spousal Loss Support Group offers a safe\, compassionate space for those grieving the loss of a Spouse. Each session is led by trained volunteers who have personally experienced Spousal loss\, bringing empathy\, understanding\, and a unique perspective to the group. \n  \nThe morning session is generally attended by retirees\, but your own schedule will dictate the right meeting for you.
URL:https://julienshouse.ca/event/spousal-loss-senior-2-2/2029-02-01/
CATEGORIES:Senior Spousal Loss,SUPPORT GROUPS
END:VEVENT
BEGIN:VEVENT
DTSTART;TZID=America/Toronto:20290301T100000
DTEND;TZID=America/Toronto:20290301T233000
DTSTAMP:20260420T140836
CREATED:20260219T181313Z
LAST-MODIFIED:20260219T181313Z
UID:10006837-1867053600-1867102200@julienshouse.ca
SUMMARY:Spousal Loss (Senior)
DESCRIPTION:Our Spousal Loss Support Group offers a safe\, compassionate space for those grieving the loss of a Spouse. Each session is led by trained volunteers who have personally experienced Spousal loss\, bringing empathy\, understanding\, and a unique perspective to the group. \n  \nThe morning session is generally attended by retirees\, but your own schedule will dictate the right meeting for you.
URL:https://julienshouse.ca/event/spousal-loss-senior-2-2/2029-03-01/
CATEGORIES:Senior Spousal Loss,SUPPORT GROUPS
END:VEVENT
BEGIN:VEVENT
DTSTART;TZID=America/Toronto:20290405T100000
DTEND;TZID=America/Toronto:20290405T233000
DTSTAMP:20260420T140836
CREATED:20260219T181313Z
LAST-MODIFIED:20260219T181313Z
UID:10006838-1870077600-1870126200@julienshouse.ca
SUMMARY:Spousal Loss (Senior)
DESCRIPTION:Our Spousal Loss Support Group offers a safe\, compassionate space for those grieving the loss of a Spouse. Each session is led by trained volunteers who have personally experienced Spousal loss\, bringing empathy\, understanding\, and a unique perspective to the group. \n  \nThe morning session is generally attended by retirees\, but your own schedule will dictate the right meeting for you.
URL:https://julienshouse.ca/event/spousal-loss-senior-2-2/2029-04-05/
CATEGORIES:Senior Spousal Loss,SUPPORT GROUPS
END:VEVENT
BEGIN:VEVENT
DTSTART;TZID=America/Toronto:20290503T100000
DTEND;TZID=America/Toronto:20290503T233000
DTSTAMP:20260420T140836
CREATED:20260219T181313Z
LAST-MODIFIED:20260219T181313Z
UID:10006839-1872496800-1872545400@julienshouse.ca
SUMMARY:Spousal Loss (Senior)
DESCRIPTION:Our Spousal Loss Support Group offers a safe\, compassionate space for those grieving the loss of a Spouse. Each session is led by trained volunteers who have personally experienced Spousal loss\, bringing empathy\, understanding\, and a unique perspective to the group. \n  \nThe morning session is generally attended by retirees\, but your own schedule will dictate the right meeting for you.
URL:https://julienshouse.ca/event/spousal-loss-senior-2-2/2029-05-03/
CATEGORIES:Senior Spousal Loss,SUPPORT GROUPS
END:VEVENT
BEGIN:VEVENT
DTSTART;TZID=America/Toronto:20290607T100000
DTEND;TZID=America/Toronto:20290607T233000
DTSTAMP:20260420T140836
CREATED:20260219T181313Z
LAST-MODIFIED:20260219T181313Z
UID:10006840-1875520800-1875569400@julienshouse.ca
SUMMARY:Spousal Loss (Senior)
DESCRIPTION:Our Spousal Loss Support Group offers a safe\, compassionate space for those grieving the loss of a Spouse. Each session is led by trained volunteers who have personally experienced Spousal loss\, bringing empathy\, understanding\, and a unique perspective to the group. \n  \nThe morning session is generally attended by retirees\, but your own schedule will dictate the right meeting for you.
URL:https://julienshouse.ca/event/spousal-loss-senior-2-2/2029-06-07/
CATEGORIES:Senior Spousal Loss,SUPPORT GROUPS
END:VEVENT
BEGIN:VEVENT
DTSTART;TZID=America/Toronto:20290705T100000
DTEND;TZID=America/Toronto:20290705T233000
DTSTAMP:20260420T140836
CREATED:20260219T181313Z
LAST-MODIFIED:20260219T181313Z
UID:10006841-1877940000-1877988600@julienshouse.ca
SUMMARY:Spousal Loss (Senior)
DESCRIPTION:Our Spousal Loss Support Group offers a safe\, compassionate space for those grieving the loss of a Spouse. Each session is led by trained volunteers who have personally experienced Spousal loss\, bringing empathy\, understanding\, and a unique perspective to the group. \n  \nThe morning session is generally attended by retirees\, but your own schedule will dictate the right meeting for you.
URL:https://julienshouse.ca/event/spousal-loss-senior-2-2/2029-07-05/
CATEGORIES:Senior Spousal Loss,SUPPORT GROUPS
END:VEVENT
BEGIN:VEVENT
DTSTART;TZID=America/Toronto:20290802T100000
DTEND;TZID=America/Toronto:20290802T233000
DTSTAMP:20260420T140836
CREATED:20260219T181313Z
LAST-MODIFIED:20260219T181313Z
UID:10006842-1880359200-1880407800@julienshouse.ca
SUMMARY:Spousal Loss (Senior)
DESCRIPTION:Our Spousal Loss Support Group offers a safe\, compassionate space for those grieving the loss of a Spouse. Each session is led by trained volunteers who have personally experienced Spousal loss\, bringing empathy\, understanding\, and a unique perspective to the group. \n  \nThe morning session is generally attended by retirees\, but your own schedule will dictate the right meeting for you.
URL:https://julienshouse.ca/event/spousal-loss-senior-2-2/2029-08-02/
CATEGORIES:Senior Spousal Loss,SUPPORT GROUPS
END:VEVENT
BEGIN:VEVENT
DTSTART;TZID=America/Toronto:20290906T100000
DTEND;TZID=America/Toronto:20290906T233000
DTSTAMP:20260420T140836
CREATED:20260219T181313Z
LAST-MODIFIED:20260219T181313Z
UID:10006843-1883383200-1883431800@julienshouse.ca
SUMMARY:Spousal Loss (Senior)
DESCRIPTION:Our Spousal Loss Support Group offers a safe\, compassionate space for those grieving the loss of a Spouse. Each session is led by trained volunteers who have personally experienced Spousal loss\, bringing empathy\, understanding\, and a unique perspective to the group. \n  \nThe morning session is generally attended by retirees\, but your own schedule will dictate the right meeting for you.
URL:https://julienshouse.ca/event/spousal-loss-senior-2-2/2029-09-06/
CATEGORIES:Senior Spousal Loss,SUPPORT GROUPS
END:VEVENT
BEGIN:VEVENT
DTSTART;TZID=America/Toronto:20291004T100000
DTEND;TZID=America/Toronto:20291004T233000
DTSTAMP:20260420T140836
CREATED:20260219T181313Z
LAST-MODIFIED:20260219T181313Z
UID:10006844-1885802400-1885851000@julienshouse.ca
SUMMARY:Spousal Loss (Senior)
DESCRIPTION:Our Spousal Loss Support Group offers a safe\, compassionate space for those grieving the loss of a Spouse. Each session is led by trained volunteers who have personally experienced Spousal loss\, bringing empathy\, understanding\, and a unique perspective to the group. \n  \nThe morning session is generally attended by retirees\, but your own schedule will dictate the right meeting for you.
URL:https://julienshouse.ca/event/spousal-loss-senior-2-2/2029-10-04/
CATEGORIES:Senior Spousal Loss,SUPPORT GROUPS
END:VEVENT
END:VCALENDAR