BEGIN:VCALENDAR
VERSION:2.0
PRODID:-//Julien&#039;s House - ECPv6.15.20//NONSGML v1.0//EN
CALSCALE:GREGORIAN
METHOD:PUBLISH
X-ORIGINAL-URL:https://julienshouse.ca
X-WR-CALDESC:Events for Julien&#039;s House
REFRESH-INTERVAL;VALUE=DURATION:PT1H
X-Robots-Tag:noindex
X-PUBLISHED-TTL:PT1H
BEGIN:VTIMEZONE
TZID:America/Toronto
BEGIN:DAYLIGHT
TZOFFSETFROM:-0500
TZOFFSETTO:-0400
TZNAME:EDT
DTSTART:20250309T070000
END:DAYLIGHT
BEGIN:STANDARD
TZOFFSETFROM:-0400
TZOFFSETTO:-0500
TZNAME:EST
DTSTART:20251102T060000
END:STANDARD
BEGIN:DAYLIGHT
TZOFFSETFROM:-0500
TZOFFSETTO:-0400
TZNAME:EDT
DTSTART:20260308T070000
END:DAYLIGHT
BEGIN:STANDARD
TZOFFSETFROM:-0400
TZOFFSETTO:-0500
TZNAME:EST
DTSTART:20261101T060000
END:STANDARD
BEGIN:DAYLIGHT
TZOFFSETFROM:-0500
TZOFFSETTO:-0400
TZNAME:EDT
DTSTART:20270314T070000
END:DAYLIGHT
BEGIN:STANDARD
TZOFFSETFROM:-0400
TZOFFSETTO:-0500
TZNAME:EST
DTSTART:20271107T060000
END:STANDARD
END:VTIMEZONE
BEGIN:VEVENT
DTSTART;TZID=America/Toronto:20260107T100000
DTEND;TZID=America/Toronto:20260107T233000
DTSTAMP:20260420T153435
CREATED:20250204T222751Z
LAST-MODIFIED:20250204T222816Z
UID:10003028-1767780000-1767828600@julienshouse.ca
SUMMARY:Spousal Loss (Senior)
DESCRIPTION:Our Spousal Loss Support Group offers a safe\, compassionate space for those grieving the loss of a Spouse. Each session is led by trained volunteers who have personally experienced Spousal loss\, bringing empathy\, understanding\, and a unique perspective to the group. \n  \nThe morning session is generally attended by retirees\, but your own schedule will dictate the right meeting for you.
URL:https://julienshouse.ca/event/spousal-loss-senior-2/2026-01-07/
CATEGORIES:Senior Spousal Loss,SUPPORT GROUPS
END:VEVENT
BEGIN:VEVENT
DTSTART;TZID=America/Toronto:20260113T183000
DTEND;TZID=America/Toronto:20260113T200000
DTSTAMP:20260420T153435
CREATED:20260115T202736Z
LAST-MODIFIED:20260115T202736Z
UID:10006692-1768329000-1768334400@julienshouse.ca
SUMMARY:Closed Group - Senior Spousal Loss
DESCRIPTION:Closed Groups provide a more structured and intimate space for participants. These groups will run for a specific number of sessions and focus on Dr. Alan Wolfelt’s 10 Touchstones of Grief\, a helpful tool for understanding and navigating grief. \nOur Spousal Loss Support Group offers a safe\, compassionate space for those grieving the loss of a Spouse. Each session is led by trained volunteers who have personally experienced Spousal loss\, bringing empathy\, understanding\, and a unique perspective to the group. \nWhy We Offer Separate Spousal Loss Groups: Grief looks different at every stage of life. Our Senior Spousal Loss Group provides support for those who have lost a lifelong partner and may be facing isolation or aging-related challenges. Our Younger Spousal Loss Group helps those navigating loss while balancing work\, parenting\, and rebuilding their future. By offering separate groups\, we ensure a supportive space where members can connect with peers who truly understand their journey.
URL:https://julienshouse.ca/event/closed-group-senior-spousal-loss/
CATEGORIES:Senior Spousal Loss,SUPPORT GROUPS
END:VEVENT
BEGIN:VEVENT
DTSTART;TZID=America/Toronto:20260120T100000
DTEND;TZID=America/Toronto:20260120T113000
DTSTAMP:20260420T153435
CREATED:20260115T203036Z
LAST-MODIFIED:20260115T203036Z
UID:10006693-1768903200-1768908600@julienshouse.ca
SUMMARY:Closed Group - Senior Spousal Loss
DESCRIPTION:Closed Groups provide a more structured and intimate space for participants. These groups will run for a specific number of sessions and focus on Dr. Alan Wolfelt’s 10 Touchstones of Grief\, a helpful tool for understanding and navigating grief. \nOur Spousal Loss Support Group offers a safe\, compassionate space for those grieving the loss of a Spouse. Each session is led by trained volunteers who have personally experienced Spousal loss\, bringing empathy\, understanding\, and a unique perspective to the group. \nWhy We Offer Separate Spousal Loss Groups: Grief looks different at every stage of life. Our Senior Spousal Loss Group provides support for those who have lost a lifelong partner and may be facing isolation or aging-related challenges. Our Younger Spousal Loss Group helps those navigating loss while balancing work\, parenting\, and rebuilding their future. By offering separate groups\, we ensure a supportive space where members can connect with peers who truly understand their journey.
URL:https://julienshouse.ca/event/closed-group-senior-spousal-loss-2/2026-01-20/
CATEGORIES:Senior Spousal Loss,SUPPORT GROUPS
END:VEVENT
BEGIN:VEVENT
DTSTART;TZID=America/Toronto:20260127T100000
DTEND;TZID=America/Toronto:20260127T113000
DTSTAMP:20260420T153435
CREATED:20260115T203036Z
LAST-MODIFIED:20260115T203036Z
UID:10006715-1769508000-1769513400@julienshouse.ca
SUMMARY:Closed Group - Senior Spousal Loss
DESCRIPTION:Closed Groups provide a more structured and intimate space for participants. These groups will run for a specific number of sessions and focus on Dr. Alan Wolfelt’s 10 Touchstones of Grief\, a helpful tool for understanding and navigating grief. \nOur Spousal Loss Support Group offers a safe\, compassionate space for those grieving the loss of a Spouse. Each session is led by trained volunteers who have personally experienced Spousal loss\, bringing empathy\, understanding\, and a unique perspective to the group. \nWhy We Offer Separate Spousal Loss Groups: Grief looks different at every stage of life. Our Senior Spousal Loss Group provides support for those who have lost a lifelong partner and may be facing isolation or aging-related challenges. Our Younger Spousal Loss Group helps those navigating loss while balancing work\, parenting\, and rebuilding their future. By offering separate groups\, we ensure a supportive space where members can connect with peers who truly understand their journey.
URL:https://julienshouse.ca/event/closed-group-senior-spousal-loss-2/2026-01-27/
CATEGORIES:Senior Spousal Loss,SUPPORT GROUPS
END:VEVENT
END:VCALENDAR