BEGIN:VCALENDAR
VERSION:2.0
PRODID:-//Julien&#039;s House - ECPv6.15.20//NONSGML v1.0//EN
CALSCALE:GREGORIAN
METHOD:PUBLISH
X-ORIGINAL-URL:https://julienshouse.ca
X-WR-CALDESC:Events for Julien&#039;s House
REFRESH-INTERVAL;VALUE=DURATION:PT1H
X-Robots-Tag:noindex
X-PUBLISHED-TTL:PT1H
BEGIN:VTIMEZONE
TZID:America/Toronto
BEGIN:DAYLIGHT
TZOFFSETFROM:-0500
TZOFFSETTO:-0400
TZNAME:EDT
DTSTART:20260308T070000
END:DAYLIGHT
BEGIN:STANDARD
TZOFFSETFROM:-0400
TZOFFSETTO:-0500
TZNAME:EST
DTSTART:20261101T060000
END:STANDARD
BEGIN:DAYLIGHT
TZOFFSETFROM:-0500
TZOFFSETTO:-0400
TZNAME:EDT
DTSTART:20270314T070000
END:DAYLIGHT
BEGIN:STANDARD
TZOFFSETFROM:-0400
TZOFFSETTO:-0500
TZNAME:EST
DTSTART:20271107T060000
END:STANDARD
BEGIN:DAYLIGHT
TZOFFSETFROM:-0500
TZOFFSETTO:-0400
TZNAME:EDT
DTSTART:20280312T070000
END:DAYLIGHT
BEGIN:STANDARD
TZOFFSETFROM:-0400
TZOFFSETTO:-0500
TZNAME:EST
DTSTART:20281105T060000
END:STANDARD
END:VTIMEZONE
BEGIN:VEVENT
DTSTART;TZID=America/Toronto:20270127T180000
DTEND;TZID=America/Toronto:20270127T193000
DTSTAMP:20260421T063459
CREATED:20241031T153548Z
LAST-MODIFIED:20251110T202507Z
UID:10003865-1801072800-1801078200@julienshouse.ca
SUMMARY:Virtual Support Group
DESCRIPTION:Our Support Group offers a safe\, compassionate space for those grieving the loss of a beloved person in their lives. Each session is led by trained volunteers who have personally experienced loss\, bringing empathy\, understanding\, and a unique perspective to the group. \n  \nThis is an inclusive support group for all types of person loss. The link to the meeting is shared with each guest upon registration.
URL:https://julienshouse.ca/event/virtual-support-group/2027-01-27/
CATEGORIES:SUPPORT GROUPS,Virtual
END:VEVENT
BEGIN:VEVENT
DTSTART;TZID=America/Toronto:20270128T183000
DTEND;TZID=America/Toronto:20270128T200000
DTSTAMP:20260421T063459
CREATED:20251125T194822Z
LAST-MODIFIED:20251209T203351Z
UID:10006256-1801161000-1801166400@julienshouse.ca
SUMMARY:Parent Loss
DESCRIPTION:Our Parent Loss Support Group offers a safe\, compassionate space for those grieving the loss of a parent. Sessions are led by trained volunteers who have personally experienced parent loss\, bringing empathy\, understanding\, and a unique perspective to the group.
URL:https://julienshouse.ca/event/parent-loss-2/2027-01-28/
CATEGORIES:Parent Loss
END:VEVENT
BEGIN:VEVENT
DTSTART;TZID=America/Toronto:20270204T100000
DTEND;TZID=America/Toronto:20270204T233000
DTSTAMP:20260421T063459
CREATED:20260219T181313Z
LAST-MODIFIED:20260219T181313Z
UID:10006812-1801735200-1801783800@julienshouse.ca
SUMMARY:Spousal Loss (Senior)
DESCRIPTION:Our Spousal Loss Support Group offers a safe\, compassionate space for those grieving the loss of a Spouse. Each session is led by trained volunteers who have personally experienced Spousal loss\, bringing empathy\, understanding\, and a unique perspective to the group. \n  \nThe morning session is generally attended by retirees\, but your own schedule will dictate the right meeting for you.
URL:https://julienshouse.ca/event/spousal-loss-senior-2-2/2027-02-04/
CATEGORIES:Senior Spousal Loss,SUPPORT GROUPS
END:VEVENT
BEGIN:VEVENT
DTSTART;TZID=America/Toronto:20270204T183000
DTEND;TZID=America/Toronto:20270204T200000
DTSTAMP:20260421T063459
CREATED:20251212T151806Z
LAST-MODIFIED:20251212T151807Z
UID:10001809-1801765800-1801771200@julienshouse.ca
SUMMARY:Child Loss
DESCRIPTION:Our Child Loss Support Group offers a safe\, compassionate space for those grieving the loss of a child. Each session is led by trained volunteers who have personally experienced child loss\, bringing empathy\, understanding\, and a unique perspective to the group.
URL:https://julienshouse.ca/event/child-loss-2/2027-02-04/
CATEGORIES:Child Loss,SUPPORT GROUPS
END:VEVENT
BEGIN:VEVENT
DTSTART;TZID=America/Toronto:20270204T183000
DTEND;TZID=America/Toronto:20270204T200000
DTSTAMP:20260421T063459
CREATED:20260219T181104Z
LAST-MODIFIED:20260219T181104Z
UID:10006753-1801765800-1801771200@julienshouse.ca
SUMMARY:Spousal Loss
DESCRIPTION:Our Spousal Loss Support Group offers a safe\, compassionate space for those grieving the loss of a Spouse. Each session is led by trained volunteers who have personally experienced Spousal loss\, bringing empathy\, understanding\, and a unique perspective to the group. \n  \nThe evening spousal session is generally attended by spouses who are not yet retired\, but your own schedule will dictate the right meeting for you.
URL:https://julienshouse.ca/event/spousal-loss-2/2027-02-04/
CATEGORIES:Spousal Loss,SUPPORT GROUPS
END:VEVENT
BEGIN:VEVENT
DTSTART;TZID=America/Toronto:20270211T183000
DTEND;TZID=America/Toronto:20270211T200000
DTSTAMP:20260421T063459
CREATED:20251125T195358Z
LAST-MODIFIED:20260105T153553Z
UID:10006498-1802370600-1802376000@julienshouse.ca
SUMMARY:Parent Loss
DESCRIPTION:Our Parent Loss Support Group offers a safe\, compassionate space for those grieving the loss of a parent. Sessions are led by trained volunteers who have personally experienced parent loss\, bringing empathy\, understanding\, and a unique perspective to the group.
URL:https://julienshouse.ca/event/parent-loss/2027-02-11/
CATEGORIES:Parent Loss
END:VEVENT
BEGIN:VEVENT
DTSTART;TZID=America/Toronto:20270218T183000
DTEND;TZID=America/Toronto:20270218T200000
DTSTAMP:20260421T063459
CREATED:20250613T145450Z
LAST-MODIFIED:20250613T195545Z
UID:10004510-1802975400-1802980800@julienshouse.ca
SUMMARY:Sibling Loss
DESCRIPTION:Our Sibling Loss Support Group offers a safe\, compassionate space for those grieving the loss of a sibling. Sessions are led by trained volunteers who have personally experienced sibling loss\, bringing empathy\, understanding\, and a unique perspective to the group.
URL:https://julienshouse.ca/event/sibling-loss-2/2027-02-18/
CATEGORIES:Sibling Loss,SUPPORT GROUPS
END:VEVENT
BEGIN:VEVENT
DTSTART;TZID=America/Toronto:20270218T183000
DTEND;TZID=America/Toronto:20270218T200000
DTSTAMP:20260421T063459
CREATED:20251212T151806Z
LAST-MODIFIED:20251212T151807Z
UID:10001810-1802975400-1802980800@julienshouse.ca
SUMMARY:Child Loss
DESCRIPTION:Our Child Loss Support Group offers a safe\, compassionate space for those grieving the loss of a child. Each session is led by trained volunteers who have personally experienced child loss\, bringing empathy\, understanding\, and a unique perspective to the group.
URL:https://julienshouse.ca/event/child-loss-2/2027-02-18/
CATEGORIES:Child Loss,SUPPORT GROUPS
END:VEVENT
BEGIN:VEVENT
DTSTART;TZID=America/Toronto:20270224T180000
DTEND;TZID=America/Toronto:20270224T193000
DTSTAMP:20260421T063459
CREATED:20241031T153548Z
LAST-MODIFIED:20251110T202507Z
UID:10003866-1803492000-1803497400@julienshouse.ca
SUMMARY:Virtual Support Group
DESCRIPTION:Our Support Group offers a safe\, compassionate space for those grieving the loss of a beloved person in their lives. Each session is led by trained volunteers who have personally experienced loss\, bringing empathy\, understanding\, and a unique perspective to the group. \n  \nThis is an inclusive support group for all types of person loss. The link to the meeting is shared with each guest upon registration.
URL:https://julienshouse.ca/event/virtual-support-group/2027-02-24/
CATEGORIES:SUPPORT GROUPS,Virtual
END:VEVENT
BEGIN:VEVENT
DTSTART;TZID=America/Toronto:20270225T183000
DTEND;TZID=America/Toronto:20270225T200000
DTSTAMP:20260421T063459
CREATED:20251125T194822Z
LAST-MODIFIED:20251209T203351Z
UID:10006257-1803580200-1803585600@julienshouse.ca
SUMMARY:Parent Loss
DESCRIPTION:Our Parent Loss Support Group offers a safe\, compassionate space for those grieving the loss of a parent. Sessions are led by trained volunteers who have personally experienced parent loss\, bringing empathy\, understanding\, and a unique perspective to the group.
URL:https://julienshouse.ca/event/parent-loss-2/2027-02-25/
CATEGORIES:Parent Loss
END:VEVENT
BEGIN:VEVENT
DTSTART;TZID=America/Toronto:20270304T100000
DTEND;TZID=America/Toronto:20270304T233000
DTSTAMP:20260421T063459
CREATED:20260219T181313Z
LAST-MODIFIED:20260219T181313Z
UID:10006813-1804154400-1804203000@julienshouse.ca
SUMMARY:Spousal Loss (Senior)
DESCRIPTION:Our Spousal Loss Support Group offers a safe\, compassionate space for those grieving the loss of a Spouse. Each session is led by trained volunteers who have personally experienced Spousal loss\, bringing empathy\, understanding\, and a unique perspective to the group. \n  \nThe morning session is generally attended by retirees\, but your own schedule will dictate the right meeting for you.
URL:https://julienshouse.ca/event/spousal-loss-senior-2-2/2027-03-04/
CATEGORIES:Senior Spousal Loss,SUPPORT GROUPS
END:VEVENT
BEGIN:VEVENT
DTSTART;TZID=America/Toronto:20270304T183000
DTEND;TZID=America/Toronto:20270304T200000
DTSTAMP:20260421T063459
CREATED:20251212T151806Z
LAST-MODIFIED:20251212T151807Z
UID:10001812-1804185000-1804190400@julienshouse.ca
SUMMARY:Child Loss
DESCRIPTION:Our Child Loss Support Group offers a safe\, compassionate space for those grieving the loss of a child. Each session is led by trained volunteers who have personally experienced child loss\, bringing empathy\, understanding\, and a unique perspective to the group.
URL:https://julienshouse.ca/event/child-loss-2/2027-03-04/
CATEGORIES:Child Loss,SUPPORT GROUPS
END:VEVENT
BEGIN:VEVENT
DTSTART;TZID=America/Toronto:20270304T183000
DTEND;TZID=America/Toronto:20270304T200000
DTSTAMP:20260421T063459
CREATED:20260219T181104Z
LAST-MODIFIED:20260219T181104Z
UID:10006754-1804185000-1804190400@julienshouse.ca
SUMMARY:Spousal Loss
DESCRIPTION:Our Spousal Loss Support Group offers a safe\, compassionate space for those grieving the loss of a Spouse. Each session is led by trained volunteers who have personally experienced Spousal loss\, bringing empathy\, understanding\, and a unique perspective to the group. \n  \nThe evening spousal session is generally attended by spouses who are not yet retired\, but your own schedule will dictate the right meeting for you.
URL:https://julienshouse.ca/event/spousal-loss-2/2027-03-04/
CATEGORIES:Spousal Loss,SUPPORT GROUPS
END:VEVENT
BEGIN:VEVENT
DTSTART;TZID=America/Toronto:20270311T183000
DTEND;TZID=America/Toronto:20270311T200000
DTSTAMP:20260421T063459
CREATED:20251125T195358Z
LAST-MODIFIED:20260105T153553Z
UID:10006499-1804789800-1804795200@julienshouse.ca
SUMMARY:Parent Loss
DESCRIPTION:Our Parent Loss Support Group offers a safe\, compassionate space for those grieving the loss of a parent. Sessions are led by trained volunteers who have personally experienced parent loss\, bringing empathy\, understanding\, and a unique perspective to the group.
URL:https://julienshouse.ca/event/parent-loss/2027-03-11/
CATEGORIES:Parent Loss
END:VEVENT
BEGIN:VEVENT
DTSTART;TZID=America/Toronto:20270318T183000
DTEND;TZID=America/Toronto:20270318T200000
DTSTAMP:20260421T063459
CREATED:20250613T145450Z
LAST-MODIFIED:20250613T195545Z
UID:10004511-1805394600-1805400000@julienshouse.ca
SUMMARY:Sibling Loss
DESCRIPTION:Our Sibling Loss Support Group offers a safe\, compassionate space for those grieving the loss of a sibling. Sessions are led by trained volunteers who have personally experienced sibling loss\, bringing empathy\, understanding\, and a unique perspective to the group.
URL:https://julienshouse.ca/event/sibling-loss-2/2027-03-18/
CATEGORIES:Sibling Loss,SUPPORT GROUPS
END:VEVENT
BEGIN:VEVENT
DTSTART;TZID=America/Toronto:20270318T183000
DTEND;TZID=America/Toronto:20270318T200000
DTSTAMP:20260421T063459
CREATED:20251212T151806Z
LAST-MODIFIED:20251212T151807Z
UID:10001813-1805394600-1805400000@julienshouse.ca
SUMMARY:Child Loss
DESCRIPTION:Our Child Loss Support Group offers a safe\, compassionate space for those grieving the loss of a child. Each session is led by trained volunteers who have personally experienced child loss\, bringing empathy\, understanding\, and a unique perspective to the group.
URL:https://julienshouse.ca/event/child-loss-2/2027-03-18/
CATEGORIES:Child Loss,SUPPORT GROUPS
END:VEVENT
BEGIN:VEVENT
DTSTART;TZID=America/Toronto:20270324T180000
DTEND;TZID=America/Toronto:20270324T193000
DTSTAMP:20260421T063459
CREATED:20241031T153548Z
LAST-MODIFIED:20251110T202507Z
UID:10003867-1805911200-1805916600@julienshouse.ca
SUMMARY:Virtual Support Group
DESCRIPTION:Our Support Group offers a safe\, compassionate space for those grieving the loss of a beloved person in their lives. Each session is led by trained volunteers who have personally experienced loss\, bringing empathy\, understanding\, and a unique perspective to the group. \n  \nThis is an inclusive support group for all types of person loss. The link to the meeting is shared with each guest upon registration.
URL:https://julienshouse.ca/event/virtual-support-group/2027-03-24/
CATEGORIES:SUPPORT GROUPS,Virtual
END:VEVENT
BEGIN:VEVENT
DTSTART;TZID=America/Toronto:20270325T183000
DTEND;TZID=America/Toronto:20270325T200000
DTSTAMP:20260421T063459
CREATED:20251125T194822Z
LAST-MODIFIED:20251209T203351Z
UID:10006258-1805999400-1806004800@julienshouse.ca
SUMMARY:Parent Loss
DESCRIPTION:Our Parent Loss Support Group offers a safe\, compassionate space for those grieving the loss of a parent. Sessions are led by trained volunteers who have personally experienced parent loss\, bringing empathy\, understanding\, and a unique perspective to the group.
URL:https://julienshouse.ca/event/parent-loss-2/2027-03-25/
CATEGORIES:Parent Loss
END:VEVENT
BEGIN:VEVENT
DTSTART;TZID=America/Toronto:20270401T100000
DTEND;TZID=America/Toronto:20270401T233000
DTSTAMP:20260421T063459
CREATED:20260219T181313Z
LAST-MODIFIED:20260219T181313Z
UID:10006814-1806573600-1806622200@julienshouse.ca
SUMMARY:Spousal Loss (Senior)
DESCRIPTION:Our Spousal Loss Support Group offers a safe\, compassionate space for those grieving the loss of a Spouse. Each session is led by trained volunteers who have personally experienced Spousal loss\, bringing empathy\, understanding\, and a unique perspective to the group. \n  \nThe morning session is generally attended by retirees\, but your own schedule will dictate the right meeting for you.
URL:https://julienshouse.ca/event/spousal-loss-senior-2-2/2027-04-01/
CATEGORIES:Senior Spousal Loss,SUPPORT GROUPS
END:VEVENT
BEGIN:VEVENT
DTSTART;TZID=America/Toronto:20270401T183000
DTEND;TZID=America/Toronto:20270401T200000
DTSTAMP:20260421T063459
CREATED:20251212T151806Z
LAST-MODIFIED:20251212T151807Z
UID:10001815-1806604200-1806609600@julienshouse.ca
SUMMARY:Child Loss
DESCRIPTION:Our Child Loss Support Group offers a safe\, compassionate space for those grieving the loss of a child. Each session is led by trained volunteers who have personally experienced child loss\, bringing empathy\, understanding\, and a unique perspective to the group.
URL:https://julienshouse.ca/event/child-loss-2/2027-04-01/
CATEGORIES:Child Loss,SUPPORT GROUPS
END:VEVENT
BEGIN:VEVENT
DTSTART;TZID=America/Toronto:20270401T183000
DTEND;TZID=America/Toronto:20270401T200000
DTSTAMP:20260421T063459
CREATED:20260219T181104Z
LAST-MODIFIED:20260219T181104Z
UID:10006755-1806604200-1806609600@julienshouse.ca
SUMMARY:Spousal Loss
DESCRIPTION:Our Spousal Loss Support Group offers a safe\, compassionate space for those grieving the loss of a Spouse. Each session is led by trained volunteers who have personally experienced Spousal loss\, bringing empathy\, understanding\, and a unique perspective to the group. \n  \nThe evening spousal session is generally attended by spouses who are not yet retired\, but your own schedule will dictate the right meeting for you.
URL:https://julienshouse.ca/event/spousal-loss-2/2027-04-01/
CATEGORIES:Spousal Loss,SUPPORT GROUPS
END:VEVENT
BEGIN:VEVENT
DTSTART;TZID=America/Toronto:20270408T183000
DTEND;TZID=America/Toronto:20270408T200000
DTSTAMP:20260421T063459
CREATED:20251125T195358Z
LAST-MODIFIED:20260105T153553Z
UID:10006500-1807209000-1807214400@julienshouse.ca
SUMMARY:Parent Loss
DESCRIPTION:Our Parent Loss Support Group offers a safe\, compassionate space for those grieving the loss of a parent. Sessions are led by trained volunteers who have personally experienced parent loss\, bringing empathy\, understanding\, and a unique perspective to the group.
URL:https://julienshouse.ca/event/parent-loss/2027-04-08/
CATEGORIES:Parent Loss
END:VEVENT
BEGIN:VEVENT
DTSTART;TZID=America/Toronto:20270415T183000
DTEND;TZID=America/Toronto:20270415T200000
DTSTAMP:20260421T063459
CREATED:20250613T145450Z
LAST-MODIFIED:20250613T195545Z
UID:10004512-1807813800-1807819200@julienshouse.ca
SUMMARY:Sibling Loss
DESCRIPTION:Our Sibling Loss Support Group offers a safe\, compassionate space for those grieving the loss of a sibling. Sessions are led by trained volunteers who have personally experienced sibling loss\, bringing empathy\, understanding\, and a unique perspective to the group.
URL:https://julienshouse.ca/event/sibling-loss-2/2027-04-15/
CATEGORIES:Sibling Loss,SUPPORT GROUPS
END:VEVENT
BEGIN:VEVENT
DTSTART;TZID=America/Toronto:20270415T183000
DTEND;TZID=America/Toronto:20270415T200000
DTSTAMP:20260421T063459
CREATED:20251212T151806Z
LAST-MODIFIED:20251212T151807Z
UID:10001816-1807813800-1807819200@julienshouse.ca
SUMMARY:Child Loss
DESCRIPTION:Our Child Loss Support Group offers a safe\, compassionate space for those grieving the loss of a child. Each session is led by trained volunteers who have personally experienced child loss\, bringing empathy\, understanding\, and a unique perspective to the group.
URL:https://julienshouse.ca/event/child-loss-2/2027-04-15/
CATEGORIES:Child Loss,SUPPORT GROUPS
END:VEVENT
BEGIN:VEVENT
DTSTART;TZID=America/Toronto:20270422T183000
DTEND;TZID=America/Toronto:20270422T200000
DTSTAMP:20260421T063459
CREATED:20251125T194822Z
LAST-MODIFIED:20251209T203351Z
UID:10006259-1808418600-1808424000@julienshouse.ca
SUMMARY:Parent Loss
DESCRIPTION:Our Parent Loss Support Group offers a safe\, compassionate space for those grieving the loss of a parent. Sessions are led by trained volunteers who have personally experienced parent loss\, bringing empathy\, understanding\, and a unique perspective to the group.
URL:https://julienshouse.ca/event/parent-loss-2/2027-04-22/
CATEGORIES:Parent Loss
END:VEVENT
BEGIN:VEVENT
DTSTART;TZID=America/Toronto:20270428T180000
DTEND;TZID=America/Toronto:20270428T193000
DTSTAMP:20260421T063459
CREATED:20241031T153548Z
LAST-MODIFIED:20251110T202507Z
UID:10003868-1808935200-1808940600@julienshouse.ca
SUMMARY:Virtual Support Group
DESCRIPTION:Our Support Group offers a safe\, compassionate space for those grieving the loss of a beloved person in their lives. Each session is led by trained volunteers who have personally experienced loss\, bringing empathy\, understanding\, and a unique perspective to the group. \n  \nThis is an inclusive support group for all types of person loss. The link to the meeting is shared with each guest upon registration.
URL:https://julienshouse.ca/event/virtual-support-group/2027-04-28/
CATEGORIES:SUPPORT GROUPS,Virtual
END:VEVENT
BEGIN:VEVENT
DTSTART;TZID=America/Toronto:20270506T100000
DTEND;TZID=America/Toronto:20270506T233000
DTSTAMP:20260421T063459
CREATED:20260219T181313Z
LAST-MODIFIED:20260219T181313Z
UID:10006815-1809597600-1809646200@julienshouse.ca
SUMMARY:Spousal Loss (Senior)
DESCRIPTION:Our Spousal Loss Support Group offers a safe\, compassionate space for those grieving the loss of a Spouse. Each session is led by trained volunteers who have personally experienced Spousal loss\, bringing empathy\, understanding\, and a unique perspective to the group. \n  \nThe morning session is generally attended by retirees\, but your own schedule will dictate the right meeting for you.
URL:https://julienshouse.ca/event/spousal-loss-senior-2-2/2027-05-06/
CATEGORIES:Senior Spousal Loss,SUPPORT GROUPS
END:VEVENT
BEGIN:VEVENT
DTSTART;TZID=America/Toronto:20270506T183000
DTEND;TZID=America/Toronto:20270506T200000
DTSTAMP:20260421T063459
CREATED:20251212T151806Z
LAST-MODIFIED:20251212T151807Z
UID:10001819-1809628200-1809633600@julienshouse.ca
SUMMARY:Child Loss
DESCRIPTION:Our Child Loss Support Group offers a safe\, compassionate space for those grieving the loss of a child. Each session is led by trained volunteers who have personally experienced child loss\, bringing empathy\, understanding\, and a unique perspective to the group.
URL:https://julienshouse.ca/event/child-loss-2/2027-05-06/
CATEGORIES:Child Loss,SUPPORT GROUPS
END:VEVENT
BEGIN:VEVENT
DTSTART;TZID=America/Toronto:20270506T183000
DTEND;TZID=America/Toronto:20270506T200000
DTSTAMP:20260421T063459
CREATED:20260219T181104Z
LAST-MODIFIED:20260219T181104Z
UID:10006756-1809628200-1809633600@julienshouse.ca
SUMMARY:Spousal Loss
DESCRIPTION:Our Spousal Loss Support Group offers a safe\, compassionate space for those grieving the loss of a Spouse. Each session is led by trained volunteers who have personally experienced Spousal loss\, bringing empathy\, understanding\, and a unique perspective to the group. \n  \nThe evening spousal session is generally attended by spouses who are not yet retired\, but your own schedule will dictate the right meeting for you.
URL:https://julienshouse.ca/event/spousal-loss-2/2027-05-06/
CATEGORIES:Spousal Loss,SUPPORT GROUPS
END:VEVENT
BEGIN:VEVENT
DTSTART;TZID=America/Toronto:20270513T183000
DTEND;TZID=America/Toronto:20270513T200000
DTSTAMP:20260421T063459
CREATED:20251125T195358Z
LAST-MODIFIED:20260105T153553Z
UID:10006501-1810233000-1810238400@julienshouse.ca
SUMMARY:Parent Loss
DESCRIPTION:Our Parent Loss Support Group offers a safe\, compassionate space for those grieving the loss of a parent. Sessions are led by trained volunteers who have personally experienced parent loss\, bringing empathy\, understanding\, and a unique perspective to the group.
URL:https://julienshouse.ca/event/parent-loss/2027-05-13/
CATEGORIES:Parent Loss
END:VEVENT
END:VCALENDAR