BEGIN:VCALENDAR
VERSION:2.0
PRODID:-//Julien&#039;s House - ECPv6.15.20//NONSGML v1.0//EN
CALSCALE:GREGORIAN
METHOD:PUBLISH
X-ORIGINAL-URL:https://julienshouse.ca
X-WR-CALDESC:Events for Julien&#039;s House
REFRESH-INTERVAL;VALUE=DURATION:PT1H
X-Robots-Tag:noindex
X-PUBLISHED-TTL:PT1H
BEGIN:VTIMEZONE
TZID:America/Toronto
BEGIN:DAYLIGHT
TZOFFSETFROM:-0500
TZOFFSETTO:-0400
TZNAME:EDT
DTSTART:20230312T070000
END:DAYLIGHT
BEGIN:STANDARD
TZOFFSETFROM:-0400
TZOFFSETTO:-0500
TZNAME:EST
DTSTART:20231105T060000
END:STANDARD
BEGIN:DAYLIGHT
TZOFFSETFROM:-0500
TZOFFSETTO:-0400
TZNAME:EDT
DTSTART:20240310T070000
END:DAYLIGHT
BEGIN:STANDARD
TZOFFSETFROM:-0400
TZOFFSETTO:-0500
TZNAME:EST
DTSTART:20241103T060000
END:STANDARD
BEGIN:DAYLIGHT
TZOFFSETFROM:-0500
TZOFFSETTO:-0400
TZNAME:EDT
DTSTART:20250309T070000
END:DAYLIGHT
BEGIN:STANDARD
TZOFFSETFROM:-0400
TZOFFSETTO:-0500
TZNAME:EST
DTSTART:20251102T060000
END:STANDARD
BEGIN:DAYLIGHT
TZOFFSETFROM:-0500
TZOFFSETTO:-0400
TZNAME:EDT
DTSTART:20260308T070000
END:DAYLIGHT
BEGIN:STANDARD
TZOFFSETFROM:-0400
TZOFFSETTO:-0500
TZNAME:EST
DTSTART:20261101T060000
END:STANDARD
END:VTIMEZONE
BEGIN:VEVENT
DTSTART;TZID=America/Toronto:20250102T183000
DTEND;TZID=America/Toronto:20250102T200000
DTSTAMP:20260420T220156
CREATED:20240814T184333Z
LAST-MODIFIED:20241202T213434Z
UID:10001725-1735842600-1735848000@julienshouse.ca
SUMMARY:Child Loss
DESCRIPTION:Our Child Loss Support Group offers a safe\, compassionate space for those grieving the loss of a child. Each session is led by trained volunteers who have personally experienced child loss\, bringing empathy\, understanding\, and a unique perspective to the group.
URL:https://julienshouse.ca/event/child-loss/2025-01-02/
CATEGORIES:Child Loss,SUPPORT GROUPS
END:VEVENT
BEGIN:VEVENT
DTSTART;TZID=America/Toronto:20241219T183000
DTEND;TZID=America/Toronto:20241219T200000
DTSTAMP:20260420T220156
CREATED:20240814T184333Z
LAST-MODIFIED:20241202T213434Z
UID:10001724-1734633000-1734638400@julienshouse.ca
SUMMARY:Child Loss
DESCRIPTION:Our Child Loss Support Group offers a safe\, compassionate space for those grieving the loss of a child. Each session is led by trained volunteers who have personally experienced child loss\, bringing empathy\, understanding\, and a unique perspective to the group.
URL:https://julienshouse.ca/event/child-loss/2024-12-19/
CATEGORIES:Child Loss,SUPPORT GROUPS
END:VEVENT
BEGIN:VEVENT
DTSTART;TZID=America/Toronto:20241205T183000
DTEND;TZID=America/Toronto:20241205T200000
DTSTAMP:20260420T220156
CREATED:20240814T184333Z
LAST-MODIFIED:20241202T213434Z
UID:10001723-1733423400-1733428800@julienshouse.ca
SUMMARY:Child Loss
DESCRIPTION:Our Child Loss Support Group offers a safe\, compassionate space for those grieving the loss of a child. Each session is led by trained volunteers who have personally experienced child loss\, bringing empathy\, understanding\, and a unique perspective to the group.
URL:https://julienshouse.ca/event/child-loss/2024-12-05/
CATEGORIES:Child Loss,SUPPORT GROUPS
END:VEVENT
BEGIN:VEVENT
DTSTART;TZID=America/Toronto:20241121T183000
DTEND;TZID=America/Toronto:20241121T200000
DTSTAMP:20260420T220156
CREATED:20240814T184333Z
LAST-MODIFIED:20241202T213434Z
UID:10001721-1732213800-1732219200@julienshouse.ca
SUMMARY:Child Loss
DESCRIPTION:Our Child Loss Support Group offers a safe\, compassionate space for those grieving the loss of a child. Each session is led by trained volunteers who have personally experienced child loss\, bringing empathy\, understanding\, and a unique perspective to the group.
URL:https://julienshouse.ca/event/child-loss/2024-11-21/
CATEGORIES:Child Loss,SUPPORT GROUPS
END:VEVENT
BEGIN:VEVENT
DTSTART;TZID=America/Toronto:20241107T183000
DTEND;TZID=America/Toronto:20241107T200000
DTSTAMP:20260420T220156
CREATED:20240814T184333Z
LAST-MODIFIED:20241202T213434Z
UID:10001720-1731004200-1731009600@julienshouse.ca
SUMMARY:Child Loss
DESCRIPTION:Our Child Loss Support Group offers a safe\, compassionate space for those grieving the loss of a child. Each session is led by trained volunteers who have personally experienced child loss\, bringing empathy\, understanding\, and a unique perspective to the group.
URL:https://julienshouse.ca/event/child-loss/2024-11-07/
CATEGORIES:Child Loss,SUPPORT GROUPS
END:VEVENT
END:VCALENDAR