BEGIN:VCALENDAR
VERSION:2.0
PRODID:-//Julien&#039;s House - ECPv6.15.20//NONSGML v1.0//EN
CALSCALE:GREGORIAN
METHOD:PUBLISH
X-ORIGINAL-URL:https://julienshouse.ca
X-WR-CALDESC:Events for Julien&#039;s House
REFRESH-INTERVAL;VALUE=DURATION:PT1H
X-Robots-Tag:noindex
X-PUBLISHED-TTL:PT1H
BEGIN:VTIMEZONE
TZID:America/Toronto
BEGIN:DAYLIGHT
TZOFFSETFROM:-0500
TZOFFSETTO:-0400
TZNAME:EDT
DTSTART:20240310T070000
END:DAYLIGHT
BEGIN:STANDARD
TZOFFSETFROM:-0400
TZOFFSETTO:-0500
TZNAME:EST
DTSTART:20241103T060000
END:STANDARD
BEGIN:DAYLIGHT
TZOFFSETFROM:-0500
TZOFFSETTO:-0400
TZNAME:EDT
DTSTART:20250309T070000
END:DAYLIGHT
BEGIN:STANDARD
TZOFFSETFROM:-0400
TZOFFSETTO:-0500
TZNAME:EST
DTSTART:20251102T060000
END:STANDARD
BEGIN:DAYLIGHT
TZOFFSETFROM:-0500
TZOFFSETTO:-0400
TZNAME:EDT
DTSTART:20260308T070000
END:DAYLIGHT
BEGIN:STANDARD
TZOFFSETFROM:-0400
TZOFFSETTO:-0500
TZNAME:EST
DTSTART:20261101T060000
END:STANDARD
END:VTIMEZONE
BEGIN:VEVENT
DTSTART;TZID=America/Toronto:20251104T183000
DTEND;TZID=America/Toronto:20251104T200000
DTSTAMP:20260420T171540
CREATED:20250205T190450Z
LAST-MODIFIED:20251203T203841Z
UID:10004628-1762281000-1762286400@julienshouse.ca
SUMMARY:Closed Group - Child Loss
DESCRIPTION:Closed Groups provide a more structured and intimate space for participants. These groups will run for a specific number of sessions and focus on Dr. Alan Wolfelt’s 10 Touchstones of Grief\, a helpful tool for understanding and navigating grief. \nOur Child Loss Support Group offers a safe\, compassionate space for those grieving the loss of a child or children. Each session is led by trained volunteers who have personally experienced Child loss\, bringing empathy\, understanding\, and a unique perspective to the group.
URL:https://julienshouse.ca/event/closed-group-spousal-loss-senior/2025-11-04/
CATEGORIES:Child Loss,SUPPORT GROUPS
END:VEVENT
BEGIN:VEVENT
DTSTART;TZID=America/Toronto:20251021T183000
DTEND;TZID=America/Toronto:20251021T200000
DTSTAMP:20260420T171540
CREATED:20260115T202630Z
LAST-MODIFIED:20260115T202630Z
UID:10006682-1761071400-1761076800@julienshouse.ca
SUMMARY:Closed Group - Child Loss
DESCRIPTION:Closed Groups offer a more structured\, steady experience. The same participants meet together each week\, which allows trust\, connection\, and shared understanding to deepen over time. Unlike our Drop-In Groups—where guests may come and go each month—Closed Groups run as a series with the same members throughout. \nBecause of this format\, sign up is required beforehand. 
URL:https://julienshouse.ca/event/closed-group-child-loss/2025-10-21/
CATEGORIES:Child Loss,SUPPORT GROUPS
END:VEVENT
BEGIN:VEVENT
DTSTART;TZID=America/Toronto:20251021T183000
DTEND;TZID=America/Toronto:20251021T200000
DTSTAMP:20260420T171540
CREATED:20250205T190450Z
LAST-MODIFIED:20251203T203841Z
UID:10004627-1761071400-1761076800@julienshouse.ca
SUMMARY:Closed Group - Child Loss
DESCRIPTION:Closed Groups provide a more structured and intimate space for participants. These groups will run for a specific number of sessions and focus on Dr. Alan Wolfelt’s 10 Touchstones of Grief\, a helpful tool for understanding and navigating grief. \nOur Child Loss Support Group offers a safe\, compassionate space for those grieving the loss of a child or children. Each session is led by trained volunteers who have personally experienced Child loss\, bringing empathy\, understanding\, and a unique perspective to the group.
URL:https://julienshouse.ca/event/closed-group-spousal-loss-senior/2025-10-21/
CATEGORIES:Child Loss,SUPPORT GROUPS
END:VEVENT
BEGIN:VEVENT
DTSTART;TZID=America/Toronto:20251016T183000
DTEND;TZID=America/Toronto:20251016T200000
DTSTAMP:20260420T171540
CREATED:20240814T184333Z
LAST-MODIFIED:20241202T213434Z
UID:10001756-1760639400-1760644800@julienshouse.ca
SUMMARY:Child Loss
DESCRIPTION:Our Child Loss Support Group offers a safe\, compassionate space for those grieving the loss of a child. Each session is led by trained volunteers who have personally experienced child loss\, bringing empathy\, understanding\, and a unique perspective to the group.
URL:https://julienshouse.ca/event/child-loss/2025-10-16/
CATEGORIES:Child Loss,SUPPORT GROUPS
END:VEVENT
BEGIN:VEVENT
DTSTART;TZID=America/Toronto:20251007T183000
DTEND;TZID=America/Toronto:20251007T200000
DTSTAMP:20260420T171540
CREATED:20260115T202630Z
LAST-MODIFIED:20260115T202630Z
UID:10006681-1759861800-1759867200@julienshouse.ca
SUMMARY:Closed Group - Child Loss
DESCRIPTION:Closed Groups offer a more structured\, steady experience. The same participants meet together each week\, which allows trust\, connection\, and shared understanding to deepen over time. Unlike our Drop-In Groups—where guests may come and go each month—Closed Groups run as a series with the same members throughout. \nBecause of this format\, sign up is required beforehand. 
URL:https://julienshouse.ca/event/closed-group-child-loss/2025-10-07/
CATEGORIES:Child Loss,SUPPORT GROUPS
END:VEVENT
BEGIN:VEVENT
DTSTART;TZID=America/Toronto:20251007T183000
DTEND;TZID=America/Toronto:20251007T200000
DTSTAMP:20260420T171541
CREATED:20250205T190450Z
LAST-MODIFIED:20251203T203841Z
UID:10004626-1759861800-1759867200@julienshouse.ca
SUMMARY:Closed Group - Child Loss
DESCRIPTION:Closed Groups provide a more structured and intimate space for participants. These groups will run for a specific number of sessions and focus on Dr. Alan Wolfelt’s 10 Touchstones of Grief\, a helpful tool for understanding and navigating grief. \nOur Child Loss Support Group offers a safe\, compassionate space for those grieving the loss of a child or children. Each session is led by trained volunteers who have personally experienced Child loss\, bringing empathy\, understanding\, and a unique perspective to the group.
URL:https://julienshouse.ca/event/closed-group-spousal-loss-senior/2025-10-07/
CATEGORIES:Child Loss,SUPPORT GROUPS
END:VEVENT
BEGIN:VEVENT
DTSTART;TZID=America/Toronto:20251002T183000
DTEND;TZID=America/Toronto:20251002T200000
DTSTAMP:20260420T171541
CREATED:20240814T184333Z
LAST-MODIFIED:20241202T213434Z
UID:10001755-1759429800-1759435200@julienshouse.ca
SUMMARY:Child Loss
DESCRIPTION:Our Child Loss Support Group offers a safe\, compassionate space for those grieving the loss of a child. Each session is led by trained volunteers who have personally experienced child loss\, bringing empathy\, understanding\, and a unique perspective to the group.
URL:https://julienshouse.ca/event/child-loss/2025-10-02/
CATEGORIES:Child Loss,SUPPORT GROUPS
END:VEVENT
BEGIN:VEVENT
DTSTART;TZID=America/Toronto:20250923T183000
DTEND;TZID=America/Toronto:20250923T200000
DTSTAMP:20260420T171541
CREATED:20260115T202630Z
LAST-MODIFIED:20260115T202630Z
UID:10006680-1758652200-1758657600@julienshouse.ca
SUMMARY:Closed Group - Child Loss
DESCRIPTION:Closed Groups offer a more structured\, steady experience. The same participants meet together each week\, which allows trust\, connection\, and shared understanding to deepen over time. Unlike our Drop-In Groups—where guests may come and go each month—Closed Groups run as a series with the same members throughout. \nBecause of this format\, sign up is required beforehand. 
URL:https://julienshouse.ca/event/closed-group-child-loss/2025-09-23/
CATEGORIES:Child Loss,SUPPORT GROUPS
END:VEVENT
BEGIN:VEVENT
DTSTART;TZID=America/Toronto:20250923T183000
DTEND;TZID=America/Toronto:20250923T200000
DTSTAMP:20260420T171541
CREATED:20250205T190450Z
LAST-MODIFIED:20251203T203841Z
UID:10004625-1758652200-1758657600@julienshouse.ca
SUMMARY:Closed Group - Child Loss
DESCRIPTION:Closed Groups provide a more structured and intimate space for participants. These groups will run for a specific number of sessions and focus on Dr. Alan Wolfelt’s 10 Touchstones of Grief\, a helpful tool for understanding and navigating grief. \nOur Child Loss Support Group offers a safe\, compassionate space for those grieving the loss of a child or children. Each session is led by trained volunteers who have personally experienced Child loss\, bringing empathy\, understanding\, and a unique perspective to the group.
URL:https://julienshouse.ca/event/closed-group-spousal-loss-senior/2025-09-23/
CATEGORIES:Child Loss,SUPPORT GROUPS
END:VEVENT
BEGIN:VEVENT
DTSTART;TZID=America/Toronto:20250918T183000
DTEND;TZID=America/Toronto:20250918T200000
DTSTAMP:20260420T171541
CREATED:20240814T184333Z
LAST-MODIFIED:20241202T213434Z
UID:10001753-1758220200-1758225600@julienshouse.ca
SUMMARY:Child Loss
DESCRIPTION:Our Child Loss Support Group offers a safe\, compassionate space for those grieving the loss of a child. Each session is led by trained volunteers who have personally experienced child loss\, bringing empathy\, understanding\, and a unique perspective to the group.
URL:https://julienshouse.ca/event/child-loss/2025-09-18/
CATEGORIES:Child Loss,SUPPORT GROUPS
END:VEVENT
BEGIN:VEVENT
DTSTART;TZID=America/Toronto:20250909T183000
DTEND;TZID=America/Toronto:20250909T200000
DTSTAMP:20260420T171541
CREATED:20260115T202630Z
LAST-MODIFIED:20260115T202630Z
UID:10006679-1757442600-1757448000@julienshouse.ca
SUMMARY:Closed Group - Child Loss
DESCRIPTION:Closed Groups offer a more structured\, steady experience. The same participants meet together each week\, which allows trust\, connection\, and shared understanding to deepen over time. Unlike our Drop-In Groups—where guests may come and go each month—Closed Groups run as a series with the same members throughout. \nBecause of this format\, sign up is required beforehand. 
URL:https://julienshouse.ca/event/closed-group-child-loss/2025-09-09/
CATEGORIES:Child Loss,SUPPORT GROUPS
END:VEVENT
BEGIN:VEVENT
DTSTART;TZID=America/Toronto:20250909T183000
DTEND;TZID=America/Toronto:20250909T200000
DTSTAMP:20260420T171541
CREATED:20250205T190450Z
LAST-MODIFIED:20251203T203841Z
UID:10004624-1757442600-1757448000@julienshouse.ca
SUMMARY:Closed Group - Child Loss
DESCRIPTION:Closed Groups provide a more structured and intimate space for participants. These groups will run for a specific number of sessions and focus on Dr. Alan Wolfelt’s 10 Touchstones of Grief\, a helpful tool for understanding and navigating grief. \nOur Child Loss Support Group offers a safe\, compassionate space for those grieving the loss of a child or children. Each session is led by trained volunteers who have personally experienced Child loss\, bringing empathy\, understanding\, and a unique perspective to the group.
URL:https://julienshouse.ca/event/closed-group-spousal-loss-senior/2025-09-09/
CATEGORIES:Child Loss,SUPPORT GROUPS
END:VEVENT
BEGIN:VEVENT
DTSTART;TZID=America/Toronto:20250904T183000
DTEND;TZID=America/Toronto:20250904T200000
DTSTAMP:20260420T171541
CREATED:20240814T184333Z
LAST-MODIFIED:20241202T213434Z
UID:10001752-1757010600-1757016000@julienshouse.ca
SUMMARY:Child Loss
DESCRIPTION:Our Child Loss Support Group offers a safe\, compassionate space for those grieving the loss of a child. Each session is led by trained volunteers who have personally experienced child loss\, bringing empathy\, understanding\, and a unique perspective to the group.
URL:https://julienshouse.ca/event/child-loss/2025-09-04/
CATEGORIES:Child Loss,SUPPORT GROUPS
END:VEVENT
BEGIN:VEVENT
DTSTART;TZID=America/Toronto:20250826T183000
DTEND;TZID=America/Toronto:20250826T200000
DTSTAMP:20260420T171541
CREATED:20260115T202630Z
LAST-MODIFIED:20260115T202630Z
UID:10006678-1756233000-1756238400@julienshouse.ca
SUMMARY:Closed Group - Child Loss
DESCRIPTION:Closed Groups offer a more structured\, steady experience. The same participants meet together each week\, which allows trust\, connection\, and shared understanding to deepen over time. Unlike our Drop-In Groups—where guests may come and go each month—Closed Groups run as a series with the same members throughout. \nBecause of this format\, sign up is required beforehand. 
URL:https://julienshouse.ca/event/closed-group-child-loss/2025-08-26/
CATEGORIES:Child Loss,SUPPORT GROUPS
END:VEVENT
BEGIN:VEVENT
DTSTART;TZID=America/Toronto:20250826T183000
DTEND;TZID=America/Toronto:20250826T200000
DTSTAMP:20260420T171541
CREATED:20250205T190450Z
LAST-MODIFIED:20251203T203841Z
UID:10004623-1756233000-1756238400@julienshouse.ca
SUMMARY:Closed Group - Child Loss
DESCRIPTION:Closed Groups provide a more structured and intimate space for participants. These groups will run for a specific number of sessions and focus on Dr. Alan Wolfelt’s 10 Touchstones of Grief\, a helpful tool for understanding and navigating grief. \nOur Child Loss Support Group offers a safe\, compassionate space for those grieving the loss of a child or children. Each session is led by trained volunteers who have personally experienced Child loss\, bringing empathy\, understanding\, and a unique perspective to the group.
URL:https://julienshouse.ca/event/closed-group-spousal-loss-senior/2025-08-26/
CATEGORIES:Child Loss,SUPPORT GROUPS
END:VEVENT
BEGIN:VEVENT
DTSTART;TZID=America/Toronto:20250821T183000
DTEND;TZID=America/Toronto:20250821T200000
DTSTAMP:20260420T171541
CREATED:20240814T184333Z
LAST-MODIFIED:20241202T213434Z
UID:10001750-1755801000-1755806400@julienshouse.ca
SUMMARY:Child Loss
DESCRIPTION:Our Child Loss Support Group offers a safe\, compassionate space for those grieving the loss of a child. Each session is led by trained volunteers who have personally experienced child loss\, bringing empathy\, understanding\, and a unique perspective to the group.
URL:https://julienshouse.ca/event/child-loss/2025-08-21/
CATEGORIES:Child Loss,SUPPORT GROUPS
END:VEVENT
BEGIN:VEVENT
DTSTART;TZID=America/Toronto:20250812T183000
DTEND;TZID=America/Toronto:20250812T200000
DTSTAMP:20260420T171541
CREATED:20260115T202630Z
LAST-MODIFIED:20260115T202630Z
UID:10006677-1755023400-1755028800@julienshouse.ca
SUMMARY:Closed Group - Child Loss
DESCRIPTION:Closed Groups offer a more structured\, steady experience. The same participants meet together each week\, which allows trust\, connection\, and shared understanding to deepen over time. Unlike our Drop-In Groups—where guests may come and go each month—Closed Groups run as a series with the same members throughout. \nBecause of this format\, sign up is required beforehand. 
URL:https://julienshouse.ca/event/closed-group-child-loss/2025-08-12/
CATEGORIES:Child Loss,SUPPORT GROUPS
END:VEVENT
BEGIN:VEVENT
DTSTART;TZID=America/Toronto:20250812T183000
DTEND;TZID=America/Toronto:20250812T200000
DTSTAMP:20260420T171541
CREATED:20250205T190450Z
LAST-MODIFIED:20251203T203841Z
UID:10004622-1755023400-1755028800@julienshouse.ca
SUMMARY:Closed Group - Child Loss
DESCRIPTION:Closed Groups provide a more structured and intimate space for participants. These groups will run for a specific number of sessions and focus on Dr. Alan Wolfelt’s 10 Touchstones of Grief\, a helpful tool for understanding and navigating grief. \nOur Child Loss Support Group offers a safe\, compassionate space for those grieving the loss of a child or children. Each session is led by trained volunteers who have personally experienced Child loss\, bringing empathy\, understanding\, and a unique perspective to the group.
URL:https://julienshouse.ca/event/closed-group-spousal-loss-senior/2025-08-12/
CATEGORIES:Child Loss,SUPPORT GROUPS
END:VEVENT
BEGIN:VEVENT
DTSTART;TZID=America/Toronto:20250807T183000
DTEND;TZID=America/Toronto:20250807T200000
DTSTAMP:20260420T171541
CREATED:20240814T184333Z
LAST-MODIFIED:20241202T213434Z
UID:10001749-1754591400-1754596800@julienshouse.ca
SUMMARY:Child Loss
DESCRIPTION:Our Child Loss Support Group offers a safe\, compassionate space for those grieving the loss of a child. Each session is led by trained volunteers who have personally experienced child loss\, bringing empathy\, understanding\, and a unique perspective to the group.
URL:https://julienshouse.ca/event/child-loss/2025-08-07/
CATEGORIES:Child Loss,SUPPORT GROUPS
END:VEVENT
BEGIN:VEVENT
DTSTART;TZID=America/Toronto:20250729T183000
DTEND;TZID=America/Toronto:20250729T200000
DTSTAMP:20260420T171541
CREATED:20260115T202630Z
LAST-MODIFIED:20260115T202630Z
UID:10006676-1753813800-1753819200@julienshouse.ca
SUMMARY:Closed Group - Child Loss
DESCRIPTION:Closed Groups offer a more structured\, steady experience. The same participants meet together each week\, which allows trust\, connection\, and shared understanding to deepen over time. Unlike our Drop-In Groups—where guests may come and go each month—Closed Groups run as a series with the same members throughout. \nBecause of this format\, sign up is required beforehand. 
URL:https://julienshouse.ca/event/closed-group-child-loss/2025-07-29/2/
CATEGORIES:Child Loss,SUPPORT GROUPS
END:VEVENT
BEGIN:VEVENT
DTSTART;TZID=America/Toronto:20250729T183000
DTEND;TZID=America/Toronto:20250729T200000
DTSTAMP:20260420T171541
CREATED:20250205T190450Z
LAST-MODIFIED:20251203T203841Z
UID:10004621-1753813800-1753819200@julienshouse.ca
SUMMARY:Closed Group - Child Loss
DESCRIPTION:Closed Groups provide a more structured and intimate space for participants. These groups will run for a specific number of sessions and focus on Dr. Alan Wolfelt’s 10 Touchstones of Grief\, a helpful tool for understanding and navigating grief. \nOur Child Loss Support Group offers a safe\, compassionate space for those grieving the loss of a child or children. Each session is led by trained volunteers who have personally experienced Child loss\, bringing empathy\, understanding\, and a unique perspective to the group.
URL:https://julienshouse.ca/event/closed-group-spousal-loss-senior/2025-07-29/2/
CATEGORIES:Child Loss,SUPPORT GROUPS
END:VEVENT
BEGIN:VEVENT
DTSTART;TZID=America/Toronto:20250729T080000
DTEND;TZID=America/Toronto:20250729T170000
DTSTAMP:20260420T171541
CREATED:20260115T202630Z
LAST-MODIFIED:20260115T202630Z
UID:10006675-1753776000-1753808400@julienshouse.ca
SUMMARY:Closed Group - Child Loss
DESCRIPTION:Closed Groups offer a more structured\, steady experience. The same participants meet together each week\, which allows trust\, connection\, and shared understanding to deepen over time. Unlike our Drop-In Groups—where guests may come and go each month—Closed Groups run as a series with the same members throughout. \nBecause of this format\, sign up is required beforehand. 
URL:https://julienshouse.ca/event/closed-group-child-loss/2025-07-29/1/
CATEGORIES:Child Loss,SUPPORT GROUPS
END:VEVENT
BEGIN:VEVENT
DTSTART;TZID=America/Toronto:20250729T080000
DTEND;TZID=America/Toronto:20250729T170000
DTSTAMP:20260420T171541
CREATED:20250205T190450Z
LAST-MODIFIED:20251203T203841Z
UID:10006362-1753776000-1753808400@julienshouse.ca
SUMMARY:Closed Group - Child Loss
DESCRIPTION:Closed Groups provide a more structured and intimate space for participants. These groups will run for a specific number of sessions and focus on Dr. Alan Wolfelt’s 10 Touchstones of Grief\, a helpful tool for understanding and navigating grief. \nOur Child Loss Support Group offers a safe\, compassionate space for those grieving the loss of a child or children. Each session is led by trained volunteers who have personally experienced Child loss\, bringing empathy\, understanding\, and a unique perspective to the group.
URL:https://julienshouse.ca/event/closed-group-spousal-loss-senior/2025-07-29/1/
CATEGORIES:Child Loss,SUPPORT GROUPS
END:VEVENT
BEGIN:VEVENT
DTSTART;TZID=America/Toronto:20250717T183000
DTEND;TZID=America/Toronto:20250717T200000
DTSTAMP:20260420T171541
CREATED:20240814T184333Z
LAST-MODIFIED:20241202T213434Z
UID:10001746-1752777000-1752782400@julienshouse.ca
SUMMARY:Child Loss
DESCRIPTION:Our Child Loss Support Group offers a safe\, compassionate space for those grieving the loss of a child. Each session is led by trained volunteers who have personally experienced child loss\, bringing empathy\, understanding\, and a unique perspective to the group.
URL:https://julienshouse.ca/event/child-loss/2025-07-17/
CATEGORIES:Child Loss,SUPPORT GROUPS
END:VEVENT
BEGIN:VEVENT
DTSTART;TZID=America/Toronto:20250703T183000
DTEND;TZID=America/Toronto:20250703T200000
DTSTAMP:20260420T171541
CREATED:20240814T184333Z
LAST-MODIFIED:20241202T213434Z
UID:10001745-1751567400-1751572800@julienshouse.ca
SUMMARY:Child Loss
DESCRIPTION:Our Child Loss Support Group offers a safe\, compassionate space for those grieving the loss of a child. Each session is led by trained volunteers who have personally experienced child loss\, bringing empathy\, understanding\, and a unique perspective to the group.
URL:https://julienshouse.ca/event/child-loss/2025-07-03/
CATEGORIES:Child Loss,SUPPORT GROUPS
END:VEVENT
BEGIN:VEVENT
DTSTART;TZID=America/Toronto:20250619T183000
DTEND;TZID=America/Toronto:20250619T200000
DTSTAMP:20260420T171541
CREATED:20240814T184333Z
LAST-MODIFIED:20241202T213434Z
UID:10001743-1750357800-1750363200@julienshouse.ca
SUMMARY:Child Loss
DESCRIPTION:Our Child Loss Support Group offers a safe\, compassionate space for those grieving the loss of a child. Each session is led by trained volunteers who have personally experienced child loss\, bringing empathy\, understanding\, and a unique perspective to the group.
URL:https://julienshouse.ca/event/child-loss/2025-06-19/
CATEGORIES:Child Loss,SUPPORT GROUPS
END:VEVENT
BEGIN:VEVENT
DTSTART;TZID=America/Toronto:20250605T183000
DTEND;TZID=America/Toronto:20250605T200000
DTSTAMP:20260420T171541
CREATED:20240814T184333Z
LAST-MODIFIED:20241202T213434Z
UID:10001742-1749148200-1749153600@julienshouse.ca
SUMMARY:Child Loss
DESCRIPTION:Our Child Loss Support Group offers a safe\, compassionate space for those grieving the loss of a child. Each session is led by trained volunteers who have personally experienced child loss\, bringing empathy\, understanding\, and a unique perspective to the group.
URL:https://julienshouse.ca/event/child-loss/2025-06-05/
CATEGORIES:Child Loss,SUPPORT GROUPS
END:VEVENT
BEGIN:VEVENT
DTSTART;TZID=America/Toronto:20250515T183000
DTEND;TZID=America/Toronto:20250515T200000
DTSTAMP:20260420T171541
CREATED:20240814T184333Z
LAST-MODIFIED:20241202T213434Z
UID:10001739-1747333800-1747339200@julienshouse.ca
SUMMARY:Child Loss
DESCRIPTION:Our Child Loss Support Group offers a safe\, compassionate space for those grieving the loss of a child. Each session is led by trained volunteers who have personally experienced child loss\, bringing empathy\, understanding\, and a unique perspective to the group.
URL:https://julienshouse.ca/event/child-loss/2025-05-15/
CATEGORIES:Child Loss,SUPPORT GROUPS
END:VEVENT
BEGIN:VEVENT
DTSTART;TZID=America/Toronto:20250501T183000
DTEND;TZID=America/Toronto:20250501T200000
DTSTAMP:20260420T171541
CREATED:20240814T184333Z
LAST-MODIFIED:20241202T213434Z
UID:10001738-1746124200-1746129600@julienshouse.ca
SUMMARY:Child Loss
DESCRIPTION:Our Child Loss Support Group offers a safe\, compassionate space for those grieving the loss of a child. Each session is led by trained volunteers who have personally experienced child loss\, bringing empathy\, understanding\, and a unique perspective to the group.
URL:https://julienshouse.ca/event/child-loss/2025-05-01/
CATEGORIES:Child Loss,SUPPORT GROUPS
END:VEVENT
BEGIN:VEVENT
DTSTART;TZID=America/Toronto:20250417T183000
DTEND;TZID=America/Toronto:20250417T200000
DTSTAMP:20260420T171541
CREATED:20240814T184333Z
LAST-MODIFIED:20241202T213434Z
UID:10001736-1744914600-1744920000@julienshouse.ca
SUMMARY:Child Loss
DESCRIPTION:Our Child Loss Support Group offers a safe\, compassionate space for those grieving the loss of a child. Each session is led by trained volunteers who have personally experienced child loss\, bringing empathy\, understanding\, and a unique perspective to the group.
URL:https://julienshouse.ca/event/child-loss/2025-04-17/
CATEGORIES:Child Loss,SUPPORT GROUPS
END:VEVENT
END:VCALENDAR