BEGIN:VCALENDAR
VERSION:2.0
PRODID:-//Julien&#039;s House - ECPv6.15.20//NONSGML v1.0//EN
CALSCALE:GREGORIAN
METHOD:PUBLISH
X-WR-CALNAME:Julien&#039;s House
X-ORIGINAL-URL:https://julienshouse.ca
X-WR-CALDESC:Events for Julien&#039;s House
REFRESH-INTERVAL;VALUE=DURATION:PT1H
X-Robots-Tag:noindex
X-PUBLISHED-TTL:PT1H
BEGIN:VTIMEZONE
TZID:America/Toronto
BEGIN:DAYLIGHT
TZOFFSETFROM:-0500
TZOFFSETTO:-0400
TZNAME:EDT
DTSTART:20250309T070000
END:DAYLIGHT
BEGIN:STANDARD
TZOFFSETFROM:-0400
TZOFFSETTO:-0500
TZNAME:EST
DTSTART:20251102T060000
END:STANDARD
BEGIN:DAYLIGHT
TZOFFSETFROM:-0500
TZOFFSETTO:-0400
TZNAME:EDT
DTSTART:20260308T070000
END:DAYLIGHT
BEGIN:STANDARD
TZOFFSETFROM:-0400
TZOFFSETTO:-0500
TZNAME:EST
DTSTART:20261101T060000
END:STANDARD
BEGIN:DAYLIGHT
TZOFFSETFROM:-0500
TZOFFSETTO:-0400
TZNAME:EDT
DTSTART:20270314T070000
END:DAYLIGHT
BEGIN:STANDARD
TZOFFSETFROM:-0400
TZOFFSETTO:-0500
TZNAME:EST
DTSTART:20271107T060000
END:STANDARD
END:VTIMEZONE
BEGIN:VEVENT
DTSTART;TZID=America/Toronto:20260304T183000
DTEND;TZID=America/Toronto:20260304T200000
DTSTAMP:20260424T073100
CREATED:20260115T203247Z
LAST-MODIFIED:20260115T203319Z
UID:10006737-1772649000-1772654400@julienshouse.ca
SUMMARY:Closed Group - Child Loss
DESCRIPTION:Closed Groups offer a more structured\, steady experience. The same participants meet together each week\, which allows trust\, connection\, and shared understanding to deepen over time. Unlike our Drop-In Groups—where guests may come and go each month—Closed Groups run as a series with the same members throughout. \nBecause of this format\, sign up is required beforehand. 
URL:https://julienshouse.ca/event/closed-group-child-loss-2/2026-03-04/
CATEGORIES:Child Loss,SUPPORT GROUPS
END:VEVENT
BEGIN:VEVENT
DTSTART;TZID=America/Toronto:20260305T183000
DTEND;TZID=America/Toronto:20260305T200000
DTSTAMP:20260424T073100
CREATED:20251212T151806Z
LAST-MODIFIED:20251212T151807Z
UID:10001772-1772735400-1772740800@julienshouse.ca
SUMMARY:Child Loss
DESCRIPTION:Our Child Loss Support Group offers a safe\, compassionate space for those grieving the loss of a child. Each session is led by trained volunteers who have personally experienced child loss\, bringing empathy\, understanding\, and a unique perspective to the group.
URL:https://julienshouse.ca/event/child-loss-2/2026-03-05/
CATEGORIES:Child Loss,SUPPORT GROUPS
END:VEVENT
BEGIN:VEVENT
DTSTART;TZID=America/Toronto:20260311T183000
DTEND;TZID=America/Toronto:20260311T200000
DTSTAMP:20260424T073100
CREATED:20260115T203247Z
LAST-MODIFIED:20260115T203319Z
UID:10006738-1773253800-1773259200@julienshouse.ca
SUMMARY:Closed Group - Child Loss
DESCRIPTION:Closed Groups offer a more structured\, steady experience. The same participants meet together each week\, which allows trust\, connection\, and shared understanding to deepen over time. Unlike our Drop-In Groups—where guests may come and go each month—Closed Groups run as a series with the same members throughout. \nBecause of this format\, sign up is required beforehand. 
URL:https://julienshouse.ca/event/closed-group-child-loss-2/2026-03-11/
CATEGORIES:Child Loss,SUPPORT GROUPS
END:VEVENT
BEGIN:VEVENT
DTSTART;TZID=America/Toronto:20260318T183000
DTEND;TZID=America/Toronto:20260318T200000
DTSTAMP:20260424T073100
CREATED:20260115T203247Z
LAST-MODIFIED:20260115T203319Z
UID:10006739-1773858600-1773864000@julienshouse.ca
SUMMARY:Closed Group - Child Loss
DESCRIPTION:Closed Groups offer a more structured\, steady experience. The same participants meet together each week\, which allows trust\, connection\, and shared understanding to deepen over time. Unlike our Drop-In Groups—where guests may come and go each month—Closed Groups run as a series with the same members throughout. \nBecause of this format\, sign up is required beforehand. 
URL:https://julienshouse.ca/event/closed-group-child-loss-2/2026-03-18/
CATEGORIES:Child Loss,SUPPORT GROUPS
END:VEVENT
BEGIN:VEVENT
DTSTART;TZID=America/Toronto:20260319T183000
DTEND;TZID=America/Toronto:20260319T200000
DTSTAMP:20260424T073100
CREATED:20251212T151806Z
LAST-MODIFIED:20251212T151807Z
UID:10001773-1773945000-1773950400@julienshouse.ca
SUMMARY:Child Loss
DESCRIPTION:Our Child Loss Support Group offers a safe\, compassionate space for those grieving the loss of a child. Each session is led by trained volunteers who have personally experienced child loss\, bringing empathy\, understanding\, and a unique perspective to the group.
URL:https://julienshouse.ca/event/child-loss-2/2026-03-19/
CATEGORIES:Child Loss,SUPPORT GROUPS
END:VEVENT
BEGIN:VEVENT
DTSTART;TZID=America/Toronto:20260325T183000
DTEND;TZID=America/Toronto:20260325T200000
DTSTAMP:20260424T073100
CREATED:20260115T203247Z
LAST-MODIFIED:20260115T203319Z
UID:10006740-1774463400-1774468800@julienshouse.ca
SUMMARY:Closed Group - Child Loss
DESCRIPTION:Closed Groups offer a more structured\, steady experience. The same participants meet together each week\, which allows trust\, connection\, and shared understanding to deepen over time. Unlike our Drop-In Groups—where guests may come and go each month—Closed Groups run as a series with the same members throughout. \nBecause of this format\, sign up is required beforehand. 
URL:https://julienshouse.ca/event/closed-group-child-loss-2/2026-03-25/
CATEGORIES:Child Loss,SUPPORT GROUPS
END:VEVENT
END:VCALENDAR